BEGIN:VCALENDAR
VERSION:2.0
PRODID:-//Paroki Pulo Gebang - KAJ - ECPv6.15.20//NONSGML v1.0//EN
CALSCALE:GREGORIAN
METHOD:PUBLISH
X-WR-CALNAME:Paroki Pulo Gebang - KAJ
X-ORIGINAL-URL:https://www.parokipulogebang.org
X-WR-CALDESC:Events for Paroki Pulo Gebang - KAJ
REFRESH-INTERVAL;VALUE=DURATION:PT1H
X-Robots-Tag:noindex
X-PUBLISHED-TTL:PT1H
BEGIN:VTIMEZONE
TZID:Asia/Krasnoyarsk
BEGIN:STANDARD
TZOFFSETFROM:+0700
TZOFFSETTO:+0700
TZNAME:+07
DTSTART:20210101T000000
END:STANDARD
END:VTIMEZONE
BEGIN:VEVENT
DTSTART;TZID=Asia/Krasnoyarsk:20220122T080000
DTEND;TZID=Asia/Krasnoyarsk:20220123T170000
DTSTAMP:20260420T002206
CREATED:20211203T084922Z
LAST-MODIFIED:20211203T084938Z
UID:17166-1642838400-1642957200@www.parokipulogebang.org
SUMMARY:Lokakarya MRT online
DESCRIPTION:
URL:https://www.parokipulogebang.org/agenda/lokakarya-mrt-online/
ATTACH;FMTTYPE=image/jpeg:https://www.parokipulogebang.org/wp-content/uploads/2021/12/MRT-Lokakarya.jpg
END:VEVENT
BEGIN:VEVENT
DTSTART;TZID=Asia/Krasnoyarsk:20220123T070000
DTEND;TZID=Asia/Krasnoyarsk:20220123T080000
DTSTAMP:20260420T002207
CREATED:20220104T013137Z
LAST-MODIFIED:20220104T013243Z
UID:17493-1642921200-1642924800@www.parokipulogebang.org
SUMMARY:Misa Hari Minggu Biasa III\, Minggu 23 Januari 2022 pukul 07:00 WIB
DESCRIPTION:
URL:https://www.parokipulogebang.org/agenda/misa-hari-minggu-biasa-iii-minggu-23-januari-2022-pukul-0700-wib/
ATTACH;FMTTYPE=image/jpeg:https://www.parokipulogebang.org/wp-content/uploads/2021/07/PGDP-Santo-Gabriel.jpg
END:VEVENT
BEGIN:VEVENT
DTSTART;TZID=Asia/Krasnoyarsk:20220123T100000
DTEND;TZID=Asia/Krasnoyarsk:20220123T110000
DTSTAMP:20260420T002207
CREATED:20220104T013226Z
LAST-MODIFIED:20220104T013258Z
UID:17494-1642932000-1642935600@www.parokipulogebang.org
SUMMARY:Misa Hari Minggu Biasa III\, Minggu 23 Januari 2022 pukul 10:00 WIB
DESCRIPTION:
URL:https://www.parokipulogebang.org/agenda/misa-hari-minggu-biasa-iii-minggu-23-januari-2022-pukul-1000-wib/
LOCATION:Gereja St. Gabriel\, Indonesia
ATTACH;FMTTYPE=image/jpeg:https://www.parokipulogebang.org/wp-content/uploads/2021/07/PGDP-Santo-Gabriel.jpg
END:VEVENT
BEGIN:VEVENT
DTSTART;TZID=Asia/Krasnoyarsk:20220123T160000
DTEND;TZID=Asia/Krasnoyarsk:20220123T170000
DTSTAMP:20260420T002207
CREATED:20211203T081816Z
LAST-MODIFIED:20211203T081921Z
UID:17163-1642953600-1642957200@www.parokipulogebang.org
SUMMARY:Pertemuan Pertama Pelajaran Babtis Anak dan Dewasa
DESCRIPTION:
URL:https://www.parokipulogebang.org/agenda/pertemuan-pertama-pelajaran-babtis-anak-dan-dewasa/
ATTACH;FMTTYPE=image/jpeg:https://www.parokipulogebang.org/wp-content/uploads/2021/12/Babtis-Dewasa-2021.jpg
END:VEVENT
END:VCALENDAR