BEGIN:VCALENDAR
VERSION:2.0
PRODID:-//Paroki Pulo Gebang - KAJ - ECPv6.15.20//NONSGML v1.0//EN
CALSCALE:GREGORIAN
METHOD:PUBLISH
X-ORIGINAL-URL:https://www.parokipulogebang.org
X-WR-CALDESC:Events for Paroki Pulo Gebang - KAJ
REFRESH-INTERVAL;VALUE=DURATION:PT1H
X-Robots-Tag:noindex
X-PUBLISHED-TTL:PT1H
BEGIN:VTIMEZONE
TZID:Asia/Krasnoyarsk
BEGIN:STANDARD
TZOFFSETFROM:+0700
TZOFFSETTO:+0700
TZNAME:+07
DTSTART:20250101T000000
END:STANDARD
END:VTIMEZONE
BEGIN:VEVENT
DTSTART;TZID=Asia/Krasnoyarsk:20260306T190000
DTEND;TZID=Asia/Krasnoyarsk:20260306T203000
DTSTAMP:20260423T063554
CREATED:20260109T004351Z
LAST-MODIFIED:20260304T155715Z
UID:29430-1772823600-1772829000@www.parokipulogebang.org
SUMMARY:Jalan Salib
DESCRIPTION:
URL:https://www.parokipulogebang.org/agenda/jalan-salib-3/
LOCATION:Gereja St. Gabriel\, Indonesia
ATTACH;FMTTYPE=image/jpeg:https://www.parokipulogebang.org/wp-content/uploads/2026/01/Kolekte-Pulo-Gebang-PGDP.jpg
END:VEVENT
END:VCALENDAR