BEGIN:VCALENDAR
VERSION:2.0
PRODID:-//Paroki Pulo Gebang - KAJ - ECPv6.15.20//NONSGML v1.0//EN
CALSCALE:GREGORIAN
METHOD:PUBLISH
X-WR-CALNAME:Paroki Pulo Gebang - KAJ
X-ORIGINAL-URL:https://www.parokipulogebang.org
X-WR-CALDESC:Events for Paroki Pulo Gebang - KAJ
REFRESH-INTERVAL;VALUE=DURATION:PT1H
X-Robots-Tag:noindex
X-PUBLISHED-TTL:PT1H
BEGIN:VTIMEZONE
TZID:Asia/Krasnoyarsk
BEGIN:STANDARD
TZOFFSETFROM:+0700
TZOFFSETTO:+0700
TZNAME:+07
DTSTART:20250101T000000
END:STANDARD
END:VTIMEZONE
BEGIN:VEVENT
DTSTART;TZID=Asia/Krasnoyarsk:20260308T063000
DTEND;TZID=Asia/Krasnoyarsk:20260308T080000
DTSTAMP:20260423T050634
CREATED:20260109T004438Z
LAST-MODIFIED:20260304T160115Z
UID:29447-1772951400-1772956800@www.parokipulogebang.org
SUMMARY:Misa Hari Minggu Pra Paskah III & Novena II - Pertobatan Ekologis - Tahun Yubileum Khusus St. Fransiskus Assisi
DESCRIPTION:
URL:https://www.parokipulogebang.org/agenda/misa-hari-minggu-pra-paskah-iii-2/
LOCATION:Gereja St. Gabriel\, Indonesia
ATTACH;FMTTYPE=image/jpeg:https://www.parokipulogebang.org/wp-content/uploads/2026/01/Kolekte-Pulo-Gebang-PGDP.jpg
END:VEVENT
BEGIN:VEVENT
DTSTART;TZID=Asia/Krasnoyarsk:20260308T090000
DTEND;TZID=Asia/Krasnoyarsk:20260308T103000
DTSTAMP:20260423T050634
CREATED:20260109T004451Z
LAST-MODIFIED:20260304T160832Z
UID:29448-1772960400-1772965800@www.parokipulogebang.org
SUMMARY:Misa Hari Minggu Pra Paskah III & Novena II - Pertobatan Ekologis dan Tahun Yubileum Khusus St. Fransiskus Assisi
DESCRIPTION:
URL:https://www.parokipulogebang.org/agenda/misa-hari-minggu-pra-paskah-iii-3/
LOCATION:Gereja St. Gabriel\, Indonesia
ATTACH;FMTTYPE=image/jpeg:https://www.parokipulogebang.org/wp-content/uploads/2026/01/Kolekte-Pulo-Gebang-PGDP.jpg
END:VEVENT
BEGIN:VEVENT
DTSTART;TZID=Asia/Krasnoyarsk:20260308T170000
DTEND;TZID=Asia/Krasnoyarsk:20260308T183000
DTSTAMP:20260423T050634
CREATED:20260304T160903Z
LAST-MODIFIED:20260314T005134Z
UID:29847-1772989200-1772994600@www.parokipulogebang.org
SUMMARY:Misa Hari Minggu Pra Paskah III & Novena II - Pertobatan Ekologis dan Tahun Yubileum Khusus St. Fransiskus Assisi
DESCRIPTION:
URL:https://www.parokipulogebang.org/agenda/misa-hari-minggu-pra-paskah-iii-novena-ii-pertobatan-ekologis-dan-tahun-yubileum-khusus-st-fransiskus-assisi/
LOCATION:Gereja St. Gabriel\, Indonesia
ATTACH;FMTTYPE=image/jpeg:https://www.parokipulogebang.org/wp-content/uploads/2026/01/Kolekte-Pulo-Gebang-PGDP.jpg
END:VEVENT
END:VCALENDAR