BEGIN:VCALENDAR
VERSION:2.0
PRODID:-//Paroki Pulo Gebang - KAJ - ECPv6.15.20//NONSGML v1.0//EN
CALSCALE:GREGORIAN
METHOD:PUBLISH
X-WR-CALNAME:Paroki Pulo Gebang - KAJ
X-ORIGINAL-URL:https://www.parokipulogebang.org
X-WR-CALDESC:Events for Paroki Pulo Gebang - KAJ
REFRESH-INTERVAL;VALUE=DURATION:PT1H
X-Robots-Tag:noindex
X-PUBLISHED-TTL:PT1H
BEGIN:VTIMEZONE
TZID:Asia/Krasnoyarsk
BEGIN:STANDARD
TZOFFSETFROM:+0700
TZOFFSETTO:+0700
TZNAME:+07
DTSTART:20250101T000000
END:STANDARD
END:VTIMEZONE
BEGIN:VEVENT
DTSTART;TZID=Asia/Krasnoyarsk:20260310T180000
DTEND;TZID=Asia/Krasnoyarsk:20260310T210000
DTSTAMP:20260423T051611
CREATED:20260304T152802Z
LAST-MODIFIED:20260304T152939Z
UID:29816-1773165600-1773176400@www.parokipulogebang.org
SUMMARY:Sakramen Tobat Prapaskah 2026
DESCRIPTION:
URL:https://www.parokipulogebang.org/agenda/sakramen-tobat-prapaskah-2026-02/
LOCATION:Gereja St. Gabriel\, Indonesia
ATTACH;FMTTYPE=image/jpeg:https://www.parokipulogebang.org/wp-content/uploads/2026/03/Sakramen-Tobat-Prapaskah-2026.jpg
END:VEVENT
END:VCALENDAR