BEGIN:VCALENDAR
VERSION:2.0
PRODID:-//Paroki Pulo Gebang - KAJ - ECPv6.15.20//NONSGML v1.0//EN
CALSCALE:GREGORIAN
METHOD:PUBLISH
X-WR-CALNAME:Paroki Pulo Gebang - KAJ
X-ORIGINAL-URL:https://www.parokipulogebang.org
X-WR-CALDESC:Events for Paroki Pulo Gebang - KAJ
REFRESH-INTERVAL;VALUE=DURATION:PT1H
X-Robots-Tag:noindex
X-PUBLISHED-TTL:PT1H
BEGIN:VTIMEZONE
TZID:Asia/Krasnoyarsk
BEGIN:STANDARD
TZOFFSETFROM:+0700
TZOFFSETTO:+0700
TZNAME:+07
DTSTART:20250101T000000
END:STANDARD
END:VTIMEZONE
BEGIN:VEVENT
DTSTART;TZID=Asia/Krasnoyarsk:20260315T063000
DTEND;TZID=Asia/Krasnoyarsk:20260315T080000
DTSTAMP:20260423T033949
CREATED:20260109T004453Z
LAST-MODIFIED:20260109T004453Z
UID:29451-1773556200-1773561600@www.parokipulogebang.org
SUMMARY:Misa Hari Minggu Pra Paskah IV
DESCRIPTION:
URL:https://www.parokipulogebang.org/agenda/misa-hari-minggu-pra-paskah-iv-2/
LOCATION:Gereja St. Gabriel\, Indonesia
ATTACH;FMTTYPE=image/jpeg:https://www.parokipulogebang.org/wp-content/uploads/2021/07/PGDP-Santo-Gabriel.jpg
END:VEVENT
BEGIN:VEVENT
DTSTART;TZID=Asia/Krasnoyarsk:20260315T090000
DTEND;TZID=Asia/Krasnoyarsk:20260315T103000
DTSTAMP:20260423T033949
CREATED:20260109T004453Z
LAST-MODIFIED:20260109T004453Z
UID:29452-1773565200-1773570600@www.parokipulogebang.org
SUMMARY:Misa Hari Minggu Pra Paskah IV
DESCRIPTION:
URL:https://www.parokipulogebang.org/agenda/misa-hari-minggu-pra-paskah-iv-3/
LOCATION:Gereja St. Gabriel\, Indonesia
ATTACH;FMTTYPE=image/jpeg:https://www.parokipulogebang.org/wp-content/uploads/2021/07/PGDP-Santo-Gabriel.jpg
END:VEVENT
BEGIN:VEVENT
DTSTART;TZID=Asia/Krasnoyarsk:20260315T170000
DTEND;TZID=Asia/Krasnoyarsk:20260315T183000
DTSTAMP:20260423T033949
CREATED:20260109T004509Z
LAST-MODIFIED:20260109T004509Z
UID:29453-1773594000-1773599400@www.parokipulogebang.org
SUMMARY:Misa Hari Minggu Pra Paskah IV
DESCRIPTION:
URL:https://www.parokipulogebang.org/agenda/misa-hari-minggu-pra-paskah-iv-4/
LOCATION:Gereja St. Gabriel\, Indonesia
ATTACH;FMTTYPE=image/jpeg:https://www.parokipulogebang.org/wp-content/uploads/2021/07/PGDP-Santo-Gabriel.jpg
END:VEVENT
END:VCALENDAR