BEGIN:VCALENDAR
VERSION:2.0
PRODID:-//Paroki Pulo Gebang - KAJ - ECPv6.15.20//NONSGML v1.0//EN
CALSCALE:GREGORIAN
METHOD:PUBLISH
X-ORIGINAL-URL:https://www.parokipulogebang.org
X-WR-CALDESC:Events for Paroki Pulo Gebang - KAJ
REFRESH-INTERVAL;VALUE=DURATION:PT1H
X-Robots-Tag:noindex
X-PUBLISHED-TTL:PT1H
BEGIN:VTIMEZONE
TZID:Asia/Krasnoyarsk
BEGIN:STANDARD
TZOFFSETFROM:+0700
TZOFFSETTO:+0700
TZNAME:+07
DTSTART:20250101T000000
END:STANDARD
END:VTIMEZONE
BEGIN:VEVENT
DTSTART;TZID=Asia/Krasnoyarsk:20260816T063000
DTEND;TZID=Asia/Krasnoyarsk:20260816T080000
DTSTAMP:20260425T052316
CREATED:20260111T165008Z
LAST-MODIFIED:20260111T165008Z
UID:29560-1786861800-1786867200@www.parokipulogebang.org
SUMMARY:Misa Hari Raya SP Maria Diangkat ke Surga
DESCRIPTION:
URL:https://www.parokipulogebang.org/agenda/misa-hari-raya-sp-maria-diangkat-ke-surga-7/
LOCATION:Gereja St. Gabriel\, Indonesia
ATTACH;FMTTYPE=image/jpeg:https://www.parokipulogebang.org/wp-content/uploads/2021/07/PGDP-Santo-Gabriel.jpg
END:VEVENT
BEGIN:VEVENT
DTSTART;TZID=Asia/Krasnoyarsk:20260816T090000
DTEND;TZID=Asia/Krasnoyarsk:20260816T103000
DTSTAMP:20260425T052316
CREATED:20260111T165009Z
LAST-MODIFIED:20260111T165009Z
UID:29561-1786870800-1786876200@www.parokipulogebang.org
SUMMARY:Misa Hari Raya SP Maria Diangkat ke Surga
DESCRIPTION:
URL:https://www.parokipulogebang.org/agenda/misa-hari-raya-sp-maria-diangkat-ke-surga-8/
LOCATION:Gereja St. Gabriel\, Indonesia
ATTACH;FMTTYPE=image/jpeg:https://www.parokipulogebang.org/wp-content/uploads/2021/07/PGDP-Santo-Gabriel.jpg
END:VEVENT
BEGIN:VEVENT
DTSTART;TZID=Asia/Krasnoyarsk:20260816T170000
DTEND;TZID=Asia/Krasnoyarsk:20260816T183000
DTSTAMP:20260425T052316
CREATED:20260111T165010Z
LAST-MODIFIED:20260111T165010Z
UID:29562-1786899600-1786905000@www.parokipulogebang.org
SUMMARY:Misa Hari Raya SP Maria Diangkat ke Surga
DESCRIPTION:
URL:https://www.parokipulogebang.org/agenda/misa-hari-raya-sp-maria-diangkat-ke-surga-9/
LOCATION:Gereja St. Gabriel\, Indonesia
END:VEVENT
END:VCALENDAR