BEGIN:VCALENDAR
VERSION:2.0
PRODID:-//Paroki Pulo Gebang - KAJ - ECPv6.15.20//NONSGML v1.0//EN
CALSCALE:GREGORIAN
METHOD:PUBLISH
X-WR-CALNAME:Paroki Pulo Gebang - KAJ
X-ORIGINAL-URL:https://www.parokipulogebang.org
X-WR-CALDESC:Events for Paroki Pulo Gebang - KAJ
REFRESH-INTERVAL;VALUE=DURATION:PT1H
X-Robots-Tag:noindex
X-PUBLISHED-TTL:PT1H
BEGIN:VTIMEZONE
TZID:Asia/Krasnoyarsk
BEGIN:STANDARD
TZOFFSETFROM:+0700
TZOFFSETTO:+0700
TZNAME:+07
DTSTART:20250101T000000
END:STANDARD
END:VTIMEZONE
BEGIN:VEVENT
DTSTART;TZID=Asia/Krasnoyarsk:20260823T063000
DTEND;TZID=Asia/Krasnoyarsk:20260823T080000
DTSTAMP:20260425T015621
CREATED:20260111T165025Z
LAST-MODIFIED:20260111T165025Z
UID:29564-1787466600-1787472000@www.parokipulogebang.org
SUMMARY:Misa Hari Minggu Biasa XXI
DESCRIPTION:
URL:https://www.parokipulogebang.org/agenda/misa-hari-minggu-biasa-xxi-20/
LOCATION:Gereja St. Gabriel\, Indonesia
ATTACH;FMTTYPE=image/jpeg:https://www.parokipulogebang.org/wp-content/uploads/2021/07/PGDP-Santo-Gabriel.jpg
END:VEVENT
BEGIN:VEVENT
DTSTART;TZID=Asia/Krasnoyarsk:20260823T090000
DTEND;TZID=Asia/Krasnoyarsk:20260823T103000
DTSTAMP:20260425T015621
CREATED:20260111T165025Z
LAST-MODIFIED:20260111T165025Z
UID:29565-1787475600-1787481000@www.parokipulogebang.org
SUMMARY:Misa Hari Minggu Biasa XXI
DESCRIPTION:
URL:https://www.parokipulogebang.org/agenda/misa-hari-minggu-biasa-xxi-21/
LOCATION:Gereja St. Gabriel\, Indonesia
ATTACH;FMTTYPE=image/jpeg:https://www.parokipulogebang.org/wp-content/uploads/2021/07/PGDP-Santo-Gabriel.jpg
END:VEVENT
BEGIN:VEVENT
DTSTART;TZID=Asia/Krasnoyarsk:20260823T170000
DTEND;TZID=Asia/Krasnoyarsk:20260823T183000
DTSTAMP:20260425T015621
CREATED:20260111T165026Z
LAST-MODIFIED:20260111T165026Z
UID:29566-1787504400-1787509800@www.parokipulogebang.org
SUMMARY:Misa Hari Minggu Biasa XXI
DESCRIPTION:
URL:https://www.parokipulogebang.org/agenda/misa-hari-minggu-biasa-xxi-22/
LOCATION:Gereja St. Gabriel\, Indonesia
ATTACH;FMTTYPE=image/jpeg:https://www.parokipulogebang.org/wp-content/uploads/2021/07/PGDP-Santo-Gabriel.jpg
END:VEVENT
END:VCALENDAR