BEGIN:VCALENDAR
VERSION:2.0
PRODID:-//Paroki Pulo Gebang - KAJ - ECPv6.15.20//NONSGML v1.0//EN
CALSCALE:GREGORIAN
METHOD:PUBLISH
X-WR-CALNAME:Paroki Pulo Gebang - KAJ
X-ORIGINAL-URL:https://www.parokipulogebang.org
X-WR-CALDESC:Events for Paroki Pulo Gebang - KAJ
REFRESH-INTERVAL;VALUE=DURATION:PT1H
X-Robots-Tag:noindex
X-PUBLISHED-TTL:PT1H
BEGIN:VTIMEZONE
TZID:Asia/Krasnoyarsk
BEGIN:STANDARD
TZOFFSETFROM:+0700
TZOFFSETTO:+0700
TZNAME:+07
DTSTART:20250101T000000
END:STANDARD
END:VTIMEZONE
BEGIN:VEVENT
DTSTART;TZID=Asia/Krasnoyarsk:20260830T063000
DTEND;TZID=Asia/Krasnoyarsk:20260830T080000
DTSTAMP:20260425T033105
CREATED:20260111T165059Z
LAST-MODIFIED:20260111T165059Z
UID:29568-1788071400-1788076800@www.parokipulogebang.org
SUMMARY:Misa Hari Minggu Biasa XXII
DESCRIPTION:
URL:https://www.parokipulogebang.org/agenda/misa-hari-minggu-biasa-xxii-16/
LOCATION:Gereja St. Gabriel\, Indonesia
ATTACH;FMTTYPE=image/jpeg:https://www.parokipulogebang.org/wp-content/uploads/2021/07/PGDP-Santo-Gabriel.jpg
END:VEVENT
BEGIN:VEVENT
DTSTART;TZID=Asia/Krasnoyarsk:20260830T090000
DTEND;TZID=Asia/Krasnoyarsk:20260830T103000
DTSTAMP:20260425T033105
CREATED:20260111T165100Z
LAST-MODIFIED:20260111T165100Z
UID:29569-1788080400-1788085800@www.parokipulogebang.org
SUMMARY:Misa Hari Minggu Biasa XXII
DESCRIPTION:
URL:https://www.parokipulogebang.org/agenda/misa-hari-minggu-biasa-xxii-17/
LOCATION:Gereja St. Gabriel\, Indonesia
ATTACH;FMTTYPE=image/jpeg:https://www.parokipulogebang.org/wp-content/uploads/2021/07/PGDP-Santo-Gabriel.jpg
END:VEVENT
BEGIN:VEVENT
DTSTART;TZID=Asia/Krasnoyarsk:20260830T170000
DTEND;TZID=Asia/Krasnoyarsk:20260830T183000
DTSTAMP:20260425T033105
CREATED:20260111T165101Z
LAST-MODIFIED:20260111T165101Z
UID:29570-1788109200-1788114600@www.parokipulogebang.org
SUMMARY:Misa Hari Minggu Biasa XXII
DESCRIPTION:
URL:https://www.parokipulogebang.org/agenda/misa-hari-minggu-biasa-xxii-18/
LOCATION:Gereja St. Gabriel\, Indonesia
ATTACH;FMTTYPE=image/jpeg:https://www.parokipulogebang.org/wp-content/uploads/2021/07/PGDP-Santo-Gabriel.jpg
END:VEVENT
END:VCALENDAR