BEGIN:VCALENDAR
VERSION:2.0
PRODID:-//Paroki Pulo Gebang - KAJ - ECPv6.15.20//NONSGML v1.0//EN
CALSCALE:GREGORIAN
METHOD:PUBLISH
X-WR-CALNAME:Paroki Pulo Gebang - KAJ
X-ORIGINAL-URL:https://www.parokipulogebang.org
X-WR-CALDESC:Events for Paroki Pulo Gebang - KAJ
REFRESH-INTERVAL;VALUE=DURATION:PT1H
X-Robots-Tag:noindex
X-PUBLISHED-TTL:PT1H
BEGIN:VTIMEZONE
TZID:Asia/Krasnoyarsk
BEGIN:STANDARD
TZOFFSETFROM:+0700
TZOFFSETTO:+0700
TZNAME:+07
DTSTART:20190101T000000
END:STANDARD
END:VTIMEZONE
BEGIN:VEVENT
DTSTART;TZID=Asia/Krasnoyarsk:20210815T103000
DTEND;TZID=Asia/Krasnoyarsk:20210815T123000
DTSTAMP:20260426T031214
CREATED:20210813T165954Z
LAST-MODIFIED:20210813T165954Z
UID:16136-1629023400-1629030600@www.parokipulogebang.org
SUMMARY:Napak Tilas 25 tahun Imamat Romo Aloysius Susilo Wijoyo\, Pr
DESCRIPTION:
URL:https://www.parokipulogebang.org/agenda/napak-tilas-25-tahun-imamat-romo-aloysius-susilo-wijoyo-pr/
LOCATION:Online
CATEGORIES:Perayaan
ATTACH;FMTTYPE=image/jpeg:https://www.parokipulogebang.org/wp-content/uploads/2021/08/25tahun_imamat_Mojoy.jpg
END:VEVENT
BEGIN:VEVENT
DTSTART;TZID=Asia/Krasnoyarsk:20210411T110000
DTEND;TZID=Asia/Krasnoyarsk:20210411T130000
DTSTAMP:20260426T031214
CREATED:20210404T093833Z
LAST-MODIFIED:20210404T093924Z
UID:13983-1618138800-1618146000@www.parokipulogebang.org
SUMMARY:Paskah Bina Iman St. Gabriel
DESCRIPTION:Yuk adik-adik\, ikut dalam kebersamaan Perayaan Paskah Bina Iman St. Gabriel Pulo Gebang \nMinggu 11 April 2021 pukul 11:00 via zoom meeting. \nMeeting ID : 881 0581 5849\nPassword : paskahan \nusername : [Nama anak / umur]\nContoh : Ela / 5 tahun \nPENTING :\nSiapkan telur paskah-mu yang SUDAH DIHIAS dan tunjukan ke teman2 nanti \, langsung lewat zoom.\nAda hadiah buat yang paling unik dan menarik.
URL:https://www.parokipulogebang.org/agenda/paskah-bina-iman-st-gabriel/
LOCATION:Online
CATEGORIES:Perayaan,Zoom meeting
ATTACH;FMTTYPE=image/jpeg:https://www.parokipulogebang.org/wp-content/uploads/2021/04/Paskah-BIA-2021.jpg
END:VEVENT
BEGIN:VEVENT
DTSTART;TZID=Asia/Krasnoyarsk:20210103T110000
DTEND;TZID=Asia/Krasnoyarsk:20210103T120000
DTSTAMP:20260426T031214
CREATED:20210101T101815Z
LAST-MODIFIED:20210101T101844Z
UID:12594-1609671600-1609675200@www.parokipulogebang.org
SUMMARY:Perayaan Natal Bersama Bina Iman St. Gabriel 2020
DESCRIPTION:
URL:https://www.parokipulogebang.org/agenda/perayaan-natal-bersama-bina-iman-st-gabriel-2020/
LOCATION:Online
CATEGORIES:Perayaan
ATTACH;FMTTYPE=image/jpeg:https://www.parokipulogebang.org/wp-content/uploads/2021/01/Slider_BIA-BIR.jpg
END:VEVENT
BEGIN:VEVENT
DTSTART;TZID=Asia/Krasnoyarsk:20200726T110000
DTEND;TZID=Asia/Krasnoyarsk:20200726T170000
DTSTAMP:20260426T031214
CREATED:20200216T094454Z
LAST-MODIFIED:20200326T071617Z
UID:5793-1595761200-1595782800@www.parokipulogebang.org
SUMMARY:Perayaan HUT 25th Gereja St. Gabriel Paroki Pulogebang
DESCRIPTION:
URL:https://www.parokipulogebang.org/agenda/perayaan-hut-25th-gereja-st-gabriel-paroki-pulogebang/
LOCATION:GKP Lantai 3
CATEGORIES:Perayaan
ATTACH;FMTTYPE=image/jpeg:https://www.parokipulogebang.org/wp-content/uploads/2020/01/HUT-Gabriel-compressor.jpg
END:VEVENT
BEGIN:VEVENT
DTSTART;TZID=Asia/Krasnoyarsk:20200412T170000
DTEND;TZID=Asia/Krasnoyarsk:20200412T180000
DTSTAMP:20260426T031214
CREATED:20200327T163623Z
LAST-MODIFIED:20200406T023657Z
UID:7476-1586710800-1586714400@www.parokipulogebang.org
SUMMARY:Hari Raya Paskah Misa III
DESCRIPTION:disiarkan melalui :
URL:https://www.parokipulogebang.org/agenda/hari-raya-paskah-misa-iii/
LOCATION:St. Perawan Maria diangkat ke Surga Katedral Jakarta\, Indonesia
CATEGORIES:Perayaan
ATTACH;FMTTYPE=image/jpeg:https://www.parokipulogebang.org/wp-content/uploads/2020/03/Altar-Katedral.jpg
END:VEVENT
BEGIN:VEVENT
DTSTART;TZID=Asia/Krasnoyarsk:20200412T090000
DTEND;TZID=Asia/Krasnoyarsk:20200412T100000
DTSTAMP:20260426T031214
CREATED:20200327T163306Z
LAST-MODIFIED:20200406T023738Z
UID:7475-1586682000-1586685600@www.parokipulogebang.org
SUMMARY:Hari Raya Paskah Misa II
DESCRIPTION:Bersama Uskup Ignatius +Kardinal Suharyo dan Konselebran \ndisiarkan melalui : \nKlik logo untuk Live Streaming \n \n  \nLive streaming menggunakan koneksi Internet sangat tergantung pada kelancaran koneksi tersebut\, kemungkinan dapat terjadi buffering atau penundaan penerimaan siaran.
URL:https://www.parokipulogebang.org/agenda/hari-raya-paskah-misa-ii/
LOCATION:St. Perawan Maria diangkat ke Surga Katedral Jakarta\, Indonesia
CATEGORIES:Perayaan
ATTACH;FMTTYPE=image/jpeg:https://www.parokipulogebang.org/wp-content/uploads/2020/03/Altar-Katedral.jpg
END:VEVENT
BEGIN:VEVENT
DTSTART;TZID=Asia/Krasnoyarsk:20200412T070000
DTEND;TZID=Asia/Krasnoyarsk:20200412T080000
DTSTAMP:20260426T031214
CREATED:20200208T055837Z
LAST-MODIFIED:20200401T040839Z
UID:5453-1586674800-1586678400@www.parokipulogebang.org
SUMMARY:Hari Raya Paskah Misa I
DESCRIPTION:Disiarkan melalui : \n \nLive streaming menggunakan koneksi Internet sangat tergantung pada kelancaran koneksi tersebut\, kemungkinan dapat terjadi buffering atau penundaan penerimaan siaran.
URL:https://www.parokipulogebang.org/agenda/hari-raya-paskah/
LOCATION:St. Perawan Maria diangkat ke Surga Katedral Jakarta\, Indonesia
CATEGORIES:Perayaan
ATTACH;FMTTYPE=image/jpeg:https://www.parokipulogebang.org/wp-content/uploads/2020/03/Altar-Katedral.jpg
END:VEVENT
BEGIN:VEVENT
DTSTART;TZID=Asia/Krasnoyarsk:20200411T190000
DTEND;TZID=Asia/Krasnoyarsk:20200411T200000
DTSTAMP:20260426T031214
CREATED:20200327T165443Z
LAST-MODIFIED:20200406T024513Z
UID:7481-1586631600-1586635200@www.parokipulogebang.org
SUMMARY:Malam Paskah II
DESCRIPTION:disiarkan melalui :
URL:https://www.parokipulogebang.org/agenda/malam-paskah-ii/
LOCATION:St. Perawan Maria diangkat ke Surga Katedral Jakarta\, Indonesia
CATEGORIES:Perayaan
ATTACH;FMTTYPE=image/jpeg:https://www.parokipulogebang.org/wp-content/uploads/2020/03/Altar-Katedral.jpg
END:VEVENT
BEGIN:VEVENT
DTSTART;TZID=Asia/Krasnoyarsk:20200410T170000
DTEND;TZID=Asia/Krasnoyarsk:20200410T180000
DTSTAMP:20260426T031214
CREATED:20200327T161542Z
LAST-MODIFIED:20200404T144620Z
UID:7463-1586538000-1586541600@www.parokipulogebang.org
SUMMARY:Jumat Agung Ibadat II
DESCRIPTION:ditayangkan di :
URL:https://www.parokipulogebang.org/agenda/jumat-agung-ibadat-ii/
LOCATION:St. Perawan Maria diangkat ke Surga Katedral Jakarta\, Indonesia
CATEGORIES:Perayaan
ATTACH;FMTTYPE=image/jpeg:https://www.parokipulogebang.org/wp-content/uploads/2020/03/Altar-Katedral.jpg
END:VEVENT
BEGIN:VEVENT
DTSTART;TZID=Asia/Krasnoyarsk:20200410T150000
DTEND;TZID=Asia/Krasnoyarsk:20200410T160000
DTSTAMP:20260426T031214
CREATED:20200208T055608Z
LAST-MODIFIED:20200404T144845Z
UID:5449-1586530800-1586534400@www.parokipulogebang.org
SUMMARY:Jumat Agung Ibadat I
DESCRIPTION:Bersama Uskup Ignatius +Kardinal Suharyo dan Konselebran \nDisiarkan melalui :
URL:https://www.parokipulogebang.org/agenda/jumat-agung/
LOCATION:St. Perawan Maria diangkat ke Surga Katedral Jakarta\, Indonesia
CATEGORIES:Perayaan
ATTACH;FMTTYPE=image/jpeg:https://www.parokipulogebang.org/wp-content/uploads/2020/03/Altar-Katedral.jpg
END:VEVENT
BEGIN:VEVENT
DTSTART;TZID=Asia/Krasnoyarsk:20200409T210000
DTEND;TZID=Asia/Krasnoyarsk:20200409T220000
DTSTAMP:20260426T031214
CREATED:20200327T161311Z
LAST-MODIFIED:20200404T080814Z
UID:7461-1586466000-1586469600@www.parokipulogebang.org
SUMMARY:Kamis Putih Misa II
DESCRIPTION:ditayangkan di : \nKlik logo untuk Live Streaming
URL:https://www.parokipulogebang.org/agenda/kamis-putih-misa-ii/
LOCATION:St. Perawan Maria diangkat ke Surga Katedral Jakarta\, Indonesia
CATEGORIES:Perayaan
ATTACH;FMTTYPE=image/jpeg:https://www.parokipulogebang.org/wp-content/uploads/2020/03/Altar-Katedral.jpg
END:VEVENT
BEGIN:VEVENT
DTSTART;TZID=Asia/Krasnoyarsk:20200409T170000
DTEND;TZID=Asia/Krasnoyarsk:20200409T180000
DTSTAMP:20260426T031214
CREATED:20200208T054914Z
LAST-MODIFIED:20200404T080741Z
UID:5443-1586451600-1586455200@www.parokipulogebang.org
SUMMARY:Kamis Putih Misa I
DESCRIPTION:Bersama Uskup Ignatius +Kardinal Suharyo dan Konselebran \nDisiarkan melalui :
URL:https://www.parokipulogebang.org/agenda/kamis-putih/
LOCATION:St. Perawan Maria diangkat ke Surga Katedral Jakarta\, Indonesia
CATEGORIES:Perayaan
ATTACH;FMTTYPE=image/jpeg:https://www.parokipulogebang.org/wp-content/uploads/2020/03/Altar-Katedral.jpg
END:VEVENT
BEGIN:VEVENT
DTSTART;TZID=Asia/Krasnoyarsk:20200405T170000
DTEND;TZID=Asia/Krasnoyarsk:20200405T180000
DTSTAMP:20260426T031214
CREATED:20200327T162640Z
LAST-MODIFIED:20200404T080351Z
UID:7470-1586106000-1586109600@www.parokipulogebang.org
SUMMARY:Minggu Palma Misa II
DESCRIPTION:disiarkan melalui :\n \n \nLive streaming menggunakan koneksi Internet sangat tergantung pada kelancaran koneksi tersebut\, kemungkinan dapat terjadi buffering atau penundaan penerimaan siaran.
URL:https://www.parokipulogebang.org/agenda/minggu-palma-misa-ii/
LOCATION:St. Perawan Maria diangkat ke Surga Katedral Jakarta\, Indonesia
CATEGORIES:Perayaan
ATTACH;FMTTYPE=image/jpeg:https://www.parokipulogebang.org/wp-content/uploads/2020/03/Altar-Katedral.jpg
END:VEVENT
BEGIN:VEVENT
DTSTART;TZID=Asia/Krasnoyarsk:20200405T090000
DTEND;TZID=Asia/Krasnoyarsk:20200405T100000
DTSTAMP:20260426T031214
CREATED:20200208T054755Z
LAST-MODIFIED:20200404T080100Z
UID:5441-1586077200-1586080800@www.parokipulogebang.org
SUMMARY:Minggu Palma Misa I
DESCRIPTION:disiarkan melalui : \nKlik logo untuk Live Streaming \nLive streaming menggunakan koneksi Internet sangat tergantung pada kelancaran koneksi tersebut\, kemungkinan dapat terjadi buffering atau penundaan penerimaan siaran.
URL:https://www.parokipulogebang.org/agenda/minggu-palma-2/
LOCATION:St. Perawan Maria diangkat ke Surga Katedral Jakarta\, Indonesia
CATEGORIES:Perayaan
ATTACH;FMTTYPE=image/jpeg:https://www.parokipulogebang.org/wp-content/uploads/2020/03/Altar-Katedral.jpg
END:VEVENT
BEGIN:VEVENT
DTSTART;TZID=Asia/Krasnoyarsk:20200404T160000
DTEND;TZID=Asia/Krasnoyarsk:20200404T170000
DTSTAMP:20260426T031214
CREATED:20200208T054531Z
LAST-MODIFIED:20200404T075810Z
UID:5439-1586016000-1586019600@www.parokipulogebang.org
SUMMARY:Minggu Palma
DESCRIPTION:disiarkan melalui :
URL:https://www.parokipulogebang.org/agenda/minggu-palma/
LOCATION:Live\, Indonesia
CATEGORIES:Perayaan
ATTACH;FMTTYPE=image/jpeg:https://www.parokipulogebang.org/wp-content/uploads/2020/03/Altar-Katedral.jpg
END:VEVENT
BEGIN:VEVENT
DTSTART;TZID=Asia/Krasnoyarsk:20200328T170000
DTEND;TZID=Asia/Krasnoyarsk:20200328T200000
DTSTAMP:20260426T031214
CREATED:20200208T053021Z
LAST-MODIFIED:20200319T144126Z
UID:5428-1585414800-1585425600@www.parokipulogebang.org
SUMMARY:Misa Pengulangan Janji Perkawinan
DESCRIPTION:Seksi Kerasulan Keluarga dan Marriage Encounter mengundang semua Pasutri yang berulangtahun perkawinan pada periode\nJANUARI – FEBRUARI- MARET\nuntuk mengikuti Misa Pengulangan Janji Perkawinan \nDipimpin oleh Romo Aloysius Susilo Wijoyo\,.Pr. \n\nPemberkatan Pasutri\nFoto bersama Romo\nRamah-tamah dengan Romo\nPembagian Souvenir.\n\n 
URL:https://www.parokipulogebang.org/agenda/misa-pengulangan-janji-perkawinan-2/
LOCATION:Gereja St. Gabriel\, Indonesia
CATEGORIES:Perayaan
ATTACH;FMTTYPE=image/jpeg:https://www.parokipulogebang.org/wp-content/uploads/2020/02/misa-hari-pernikahan-tiada.jpg
END:VEVENT
BEGIN:VEVENT
DTSTART;TZID=Asia/Krasnoyarsk:20200226T053000
DTEND;TZID=Asia/Krasnoyarsk:20200226T070000
DTSTAMP:20260426T031214
CREATED:20200208T054157Z
LAST-MODIFIED:20200217T095534Z
UID:5436-1582695000-1582700400@www.parokipulogebang.org
SUMMARY:Rabu Abu
DESCRIPTION:
URL:https://www.parokipulogebang.org/agenda/rabu-abu/
LOCATION:Gereja St. Gabriel\, Indonesia
CATEGORIES:Perayaan
ATTACH;FMTTYPE=image/jpeg:https://www.parokipulogebang.org/wp-content/uploads/2020/02/Rabu-Abu-1.jpg
END:VEVENT
BEGIN:VEVENT
DTSTART;TZID=Asia/Krasnoyarsk:20200215T170000
DTEND;TZID=Asia/Krasnoyarsk:20200215T173000
DTSTAMP:20260426T031214
CREATED:20200204T065257Z
LAST-MODIFIED:20200205T065543Z
UID:5255-1581786000-1581787800@www.parokipulogebang.org
SUMMARY:Misa Hari Orang Sakit seDunia (HOSD)
DESCRIPTION:Akan diberikan Sakramen Perminyakan Orang Sakit bagi yang membutuhkan
URL:https://www.parokipulogebang.org/agenda/misa-hari-orang-sakit-sedunia-hosd/
LOCATION:Gereja St. Gabriel\, Indonesia
CATEGORIES:Perayaan
END:VEVENT
BEGIN:VEVENT
DTSTART;TZID=Asia/Krasnoyarsk:20200202T090000
DTEND;TZID=Asia/Krasnoyarsk:20200202T110000
DTSTAMP:20260426T031214
CREATED:20200119T043657Z
LAST-MODIFIED:20200119T043657Z
UID:4605-1580634000-1580641200@www.parokipulogebang.org
SUMMARY:Misa Nuansa Nusantara
DESCRIPTION:Dalam rangkan Pembukaan Rangkaian Hari Ulang Tahun Paroki ke-25\, akan diselenggarakan “Misa Nuansa Nusantara”. \nUmat diajak untuk memakai Busana Daerah / tradisional. \nSetelah perayaan Misa\, akan diselenggarakan lomba busana antar Wilayah.
URL:https://www.parokipulogebang.org/agenda/misa-nuansa-nusantara/
LOCATION:Gereja St. Gabriel\, Indonesia
CATEGORIES:Perayaan
END:VEVENT
BEGIN:VEVENT
DTSTART;TZID=Asia/Krasnoyarsk:20200126T090000
DTEND;TZID=Asia/Krasnoyarsk:20200126T103000
DTSTAMP:20260426T031214
CREATED:20200106T053127Z
LAST-MODIFIED:20200115T040546Z
UID:4283-1580029200-1580034600@www.parokipulogebang.org
SUMMARY:Misa Imlek 2571
DESCRIPTION:Dresscode : Nuansa Imlek.\nPhoto booth.\nAngpao untuk anak-anak dan OMK.
URL:https://www.parokipulogebang.org/agenda/misa-imlek-2571/
LOCATION:Gereja St. Gabriel\, Indonesia
CATEGORIES:Perayaan
ATTACH;FMTTYPE=image/jpeg:https://www.parokipulogebang.org/wp-content/uploads/2020/01/Tahun-Baru-Imlek-2020-compressor.jpg
END:VEVENT
BEGIN:VEVENT
DTSTART;TZID=Asia/Krasnoyarsk:20200110T193000
DTEND;TZID=Asia/Krasnoyarsk:20200110T210000
DTSTAMP:20260426T031214
CREATED:20200108T025805Z
LAST-MODIFIED:20200108T030755Z
UID:4318-1578684600-1578690000@www.parokipulogebang.org
SUMMARY:Misa Natal KKI
DESCRIPTION:Komunitas Kerahiman Ilahi St. Gabriel – Paroki Pulo Gebang mengadakan MISA NATAL KKI.\nDiawali dengan Doa KORONKA. \nDipersembahkan oleh Rm. Alfonsus Setya Gunawan\, Pr. \nMohon membawa Rosario dan BBM.\nDresscode : Nuansa Natal (merah\, hijau\, asesories Natal)
URL:https://www.parokipulogebang.org/agenda/misa-natal-kki/
LOCATION:Kapel St. Gabriel
CATEGORIES:Perayaan
ATTACH;FMTTYPE=image/jpeg:https://www.parokipulogebang.org/wp-content/uploads/2020/01/KKI.jpg
END:VEVENT
BEGIN:VEVENT
DTSTART;TZID=Asia/Krasnoyarsk:20200108T100000
DTEND;TZID=Asia/Krasnoyarsk:20200108T113000
DTSTAMP:20260426T031214
CREATED:20200108T025441Z
LAST-MODIFIED:20200108T025441Z
UID:4314-1578477600-1578483000@www.parokipulogebang.org
SUMMARY:Misa Pembukaan Novena Putaran ke-9
DESCRIPTION:
URL:https://www.parokipulogebang.org/agenda/misa-pembukaan-novena-putaran-ke-9/
LOCATION:Kapel St. Gabriel
CATEGORIES:Perayaan
ATTACH;FMTTYPE=image/jpeg:https://www.parokipulogebang.org/wp-content/uploads/2020/01/Misa-pembukaan-Novena-Putaran-ke-9.jpg
END:VEVENT
BEGIN:VEVENT
DTSTART;TZID=Asia/Krasnoyarsk:20200104T190000
DTEND;TZID=Asia/Krasnoyarsk:20200104T210000
DTSTAMP:20260426T031214
CREATED:20191228T042800Z
LAST-MODIFIED:20191228T042800Z
UID:4249-1578164400-1578171600@www.parokipulogebang.org
SUMMARY:Natal OMK 2019
DESCRIPTION:Panitia Natal OMK mengundang OMK St. Gabriel untuk merayakan Natal Bersama. \nAda sesi Tukar Kado\, bagi yang ingin ikut tukar kado diharapkan membawa kado minimum seharga Rp. 25.000\,- . Kado tidak boleh berupa barang habis pakai\, makanan atau minuman. Kado dibungkus dengan koran. \nInformasi : \nVeronica : 0895 3345 2877\nImelda : 0897 9176 793
URL:https://www.parokipulogebang.org/agenda/natal-omk-2019/
LOCATION:GKP Lantai 3
CATEGORIES:Perayaan
END:VEVENT
END:VCALENDAR