BEGIN:VCALENDAR
VERSION:2.0
PRODID:-//Paroki Pulo Gebang - KAJ - ECPv6.15.20//NONSGML v1.0//EN
CALSCALE:GREGORIAN
METHOD:PUBLISH
X-WR-CALNAME:Paroki Pulo Gebang - KAJ
X-ORIGINAL-URL:https://www.parokipulogebang.org
X-WR-CALDESC:Events for Paroki Pulo Gebang - KAJ
REFRESH-INTERVAL;VALUE=DURATION:PT1H
X-Robots-Tag:noindex
X-PUBLISHED-TTL:PT1H
BEGIN:VTIMEZONE
TZID:Asia/Krasnoyarsk
BEGIN:STANDARD
TZOFFSETFROM:+0700
TZOFFSETTO:+0700
TZNAME:+07
DTSTART:20190101T000000
END:STANDARD
END:VTIMEZONE
BEGIN:VEVENT
DTSTART;TZID=Asia/Krasnoyarsk:20210327T190000
DTEND;TZID=Asia/Krasnoyarsk:20210327T200000
DTSTAMP:20260424T091416
CREATED:20210321T002519Z
LAST-MODIFIED:20210321T002810Z
UID:13710-1616871600-1616875200@www.parokipulogebang.org
SUMMARY:Sosialisasi BKSY Maret 2021
DESCRIPTION:Topic: Sosialisasi BKSY\nTime: Mar 27\, 2021 07:00 PM Jakarta \nSingle click URL to join: https://rebrand.ly/BKSY \nMeeting ID: 586 258 9472\nPassword: pulogebang
URL:https://www.parokipulogebang.org/agenda/sosialisasi-bksy-maret-2021/
LOCATION:Online
CATEGORIES:Sosialisasi
ATTACH;FMTTYPE=image/jpeg:https://www.parokipulogebang.org/wp-content/uploads/2021/03/Sosialisasi-BKSY.jpg
END:VEVENT
BEGIN:VEVENT
DTSTART;TZID=Asia/Krasnoyarsk:20200315T110000
DTEND;TZID=Asia/Krasnoyarsk:20200315T130000
DTSTAMP:20260424T091416
CREATED:20200307T145719Z
LAST-MODIFIED:20200313T085620Z
UID:6208-1584270000-1584277200@www.parokipulogebang.org
SUMMARY:Penyuluhan Kesehatan Pencegah dan Penularan Virus Corona
DESCRIPTION:Mohon kehadiran Korwil dan Kaling (minimum 2 orang)
URL:https://www.parokipulogebang.org/agenda/penyuluhan-kesehatan-pencegah-dan-penularan-virus-corona/
LOCATION:GKP Lantai 2
CATEGORIES:Sosialisasi
ATTACH;FMTTYPE=image/jpeg:https://www.parokipulogebang.org/wp-content/uploads/2020/03/Penyuluhan-Covid-medsos-compressor.jpg
END:VEVENT
BEGIN:VEVENT
DTSTART;TZID=Asia/Krasnoyarsk:20200216T110000
DTEND;TZID=Asia/Krasnoyarsk:20200216T130000
DTSTAMP:20260424T091416
CREATED:20200208T034701Z
LAST-MODIFIED:20200208T044150Z
UID:5388-1581850800-1581858000@www.parokipulogebang.org
SUMMARY:Sosialisasi APP
DESCRIPTION:Dalam rangka persiapan memasuki Masa Prapaskah\, Sie KKS mengadakan “Sosialisasi APP”. \nDiharapkan para Fasilitator Lingkungan (2 orang)\, Prodiakon\, Suster\, Katekis dan Seksi terkait lainnya dapat hadir. \nMari kita persiapkan dengan baik pertemuan APP di masing-masing Lingkungan.
URL:https://www.parokipulogebang.org/agenda/sosialisasi-app/
LOCATION:GKP Lantai 2
CATEGORIES:Sosialisasi
END:VEVENT
END:VCALENDAR