BEGIN:VCALENDAR
VERSION:2.0
PRODID:-//Paroki Pulo Gebang - KAJ - ECPv6.15.20//NONSGML v1.0//EN
CALSCALE:GREGORIAN
METHOD:PUBLISH
X-ORIGINAL-URL:https://www.parokipulogebang.org
X-WR-CALDESC:Events for Paroki Pulo Gebang - KAJ
REFRESH-INTERVAL;VALUE=DURATION:PT1H
X-Robots-Tag:noindex
X-PUBLISHED-TTL:PT1H
BEGIN:VTIMEZONE
TZID:Asia/Krasnoyarsk
BEGIN:STANDARD
TZOFFSETFROM:+0700
TZOFFSETTO:+0700
TZNAME:+07
DTSTART:20250101T000000
END:STANDARD
END:VTIMEZONE
BEGIN:VEVENT
DTSTART;TZID=Asia/Krasnoyarsk:20260418T090000
DTEND;TZID=Asia/Krasnoyarsk:20260418T110000
DTSTAMP:20260419T225959
CREATED:20260414T034247Z
LAST-MODIFIED:20260414T034508Z
UID:30016-1776502800-1776510000@www.parokipulogebang.org
SUMMARY:Perayaan Paska Bina Iman Anak
DESCRIPTION:Selamat pagi Adik-adik Bina Iman St. GABRIEL\, yuk kita ikuti acara Paskahan Bina Iman di GKP lt.2 pada : \n🗓 : Sabtu\, 18 April 2026\n⏰ : 09.00 wib – 11.00\nAcaranya antara lain\, mencari telur\, menghias dan mewarnai. Silakan isi formulir pendaftarannya\, supaya Kakak bisa menyiapkan dengan baik.\nDan jangan lupa BBM _ bawa botol minum. \nLink pendaftaran :\nHttps://forms.gle/YMgBaGVdP47cJkiWA
URL:https://www.parokipulogebang.org/agenda/perayaan-paska-bina-iman-anak/
ATTACH;FMTTYPE=image/jpeg:https://www.parokipulogebang.org/wp-content/uploads/2026/04/Perayaan-Paskah-BIA-2026.jpg
END:VEVENT
BEGIN:VEVENT
DTSTART;TZID=Asia/Krasnoyarsk:20260418T170000
DTEND;TZID=Asia/Krasnoyarsk:20260418T183000
DTSTAMP:20260419T225959
CREATED:20260111T162911Z
LAST-MODIFIED:20260111T162911Z
UID:29487-1776531600-1776537000@www.parokipulogebang.org
SUMMARY:Misa Hari Minggu Paskah III
DESCRIPTION:
URL:https://www.parokipulogebang.org/agenda/misa-hari-minggu-paskah-iii-16/
LOCATION:Gereja St. Gabriel\, Indonesia
ATTACH;FMTTYPE=image/jpeg:https://www.parokipulogebang.org/wp-content/uploads/2021/07/PGDP-Santo-Gabriel.jpg
END:VEVENT
BEGIN:VEVENT
DTSTART;TZID=Asia/Krasnoyarsk:20260419T063000
DTEND;TZID=Asia/Krasnoyarsk:20260419T080000
DTSTAMP:20260419T225959
CREATED:20260111T162931Z
LAST-MODIFIED:20260111T162931Z
UID:29488-1776580200-1776585600@www.parokipulogebang.org
SUMMARY:Misa Hari Minggu Paskah III
DESCRIPTION:
URL:https://www.parokipulogebang.org/agenda/misa-hari-minggu-paskah-iii-17/
LOCATION:Gereja St. Gabriel\, Indonesia
ATTACH;FMTTYPE=image/jpeg:https://www.parokipulogebang.org/wp-content/uploads/2021/07/PGDP-Santo-Gabriel.jpg
END:VEVENT
BEGIN:VEVENT
DTSTART;TZID=Asia/Krasnoyarsk:20260419T090000
DTEND;TZID=Asia/Krasnoyarsk:20260419T103000
DTSTAMP:20260419T225959
CREATED:20260111T162932Z
LAST-MODIFIED:20260111T162932Z
UID:29489-1776589200-1776594600@www.parokipulogebang.org
SUMMARY:Misa Hari Minggu Paskah III
DESCRIPTION:
URL:https://www.parokipulogebang.org/agenda/misa-hari-minggu-paskah-iii-18/
LOCATION:Gereja St. Gabriel\, Indonesia
ATTACH;FMTTYPE=image/jpeg:https://www.parokipulogebang.org/wp-content/uploads/2021/07/PGDP-Santo-Gabriel.jpg
END:VEVENT
BEGIN:VEVENT
DTSTART;TZID=Asia/Krasnoyarsk:20260419T103000
DTEND;TZID=Asia/Krasnoyarsk:20260419T130000
DTSTAMP:20260419T225959
CREATED:20260414T033635Z
LAST-MODIFIED:20260414T033821Z
UID:30014-1776594600-1776603600@www.parokipulogebang.org
SUMMARY:Workshop Rumah Minim Sampah Batch Kedua
DESCRIPTION:Semangat pagi Romo\, bapak/ibu Korwil\, Kaling \, sdr/i umat Paroki Pulo Gebang…. \nDalam rangka Lomba Ardas 2026 dan menunjang Gerakan 1000 Botol Eco Enzyme\, Sub Sie LH bekerjasama dgn TSBP1 & TSBP4 mengadakan Workshop Rumah Minim Sampah Batch Kedua pada : \n🗓 : Minggu\, 19 April 2026\n⏰ : 10.30 wib (setelah misa kedua)\n⛪ : GKP lt. 3 \n📌Free Workshop (gratis)\n📌Free Starterkit EcoEnzyme\, EM4\n📌BBM (Bawa Botol Minum ) \nLink pendaftaran :\nhttps://forms.gle/AQfJr8uWYTwcb7Mi9
URL:https://www.parokipulogebang.org/agenda/workshop-rumah-minim-sampah-batch-kedua/
LOCATION:GKP Lantai 3
ATTACH;FMTTYPE=image/jpeg:https://www.parokipulogebang.org/wp-content/uploads/2026/03/rumah-minim-sampah.jpg
END:VEVENT
BEGIN:VEVENT
DTSTART;TZID=Asia/Krasnoyarsk:20260419T103000
DTEND;TZID=Asia/Krasnoyarsk:20260419T140000
DTSTAMP:20260419T225959
CREATED:20260319T134434Z
LAST-MODIFIED:20260319T134521Z
UID:29942-1776594600-1776607200@www.parokipulogebang.org
SUMMARY:Gathering Sie Kesehatan 2026
DESCRIPTION:Yuk\, Hadir di Gathering Tim Medis Paroki! \nShalom teman-teman Tim Medis 🙌\nDalam semangat kebersamaan dan pelayanan\, Sie Kesehatan Gereja St. Gabriel mengundang rekan-rekan semua untuk hadir dalam: \nGATHERING Bersama TIM MEDIS✨\n“Pelayanan yang Berkolaborasi” \n🗓 Minggu\, 19 April 2026\n⏰ 10.30 – 14.00\n📍 Ruang Yakobus – Gereja St. Gabriel\, Paroki Pulogebang \n🎤 Pembicara utama :\nRD Albertus Adiwenanto Widyasworo \nMengundang :\n– peserta training BHD batch 1 dan batch 2\n– Seluruh Nakes (dokter\,perawat\, bidan) paroki St. Gabriel\n– ⁠Umat Non nakes yg sudah terlibat dan ingin telibat dalam pelayanan tim medis paroki St.Gabriel\n– ⁠TPP ardas tim program permata \nNote : Kuota terbatas untuk 40org !! \nMari jadikan momen ini sebagai langkah untuk semakin kompak dan semakin berdampak dalam pelayanan kesehatan di Gereja St. Gabriel. 🙏 \nYuk\, daftar sekarang 👇\n🔗 https://bit.ly/registrasigatheringmedis2026 \nSampai bertemu dan Tuhan memberkati pelayanan kita semua 🤍
URL:https://www.parokipulogebang.org/agenda/gathering-sie-kesehatan-2026/
LOCATION:Ruang Yakobus
ATTACH;FMTTYPE=image/jpeg:https://www.parokipulogebang.org/wp-content/uploads/2026/03/Gathersin-Sie-Kesehatan-202.jpg
END:VEVENT
BEGIN:VEVENT
DTSTART;TZID=Asia/Krasnoyarsk:20260419T170000
DTEND;TZID=Asia/Krasnoyarsk:20260419T183000
DTSTAMP:20260419T225959
CREATED:20260111T162932Z
LAST-MODIFIED:20260111T162932Z
UID:29490-1776618000-1776623400@www.parokipulogebang.org
SUMMARY:Misa Hari Minggu Paskah III
DESCRIPTION:
URL:https://www.parokipulogebang.org/agenda/misa-hari-minggu-paskah-iii-19/
LOCATION:Gereja St. Gabriel\, Indonesia
ATTACH;FMTTYPE=image/jpeg:https://www.parokipulogebang.org/wp-content/uploads/2021/07/PGDP-Santo-Gabriel.jpg
END:VEVENT
BEGIN:VEVENT
DTSTART;TZID=Asia/Krasnoyarsk:20260422T190000
DTEND;TZID=Asia/Krasnoyarsk:20260422T213000
DTSTAMP:20260419T225959
CREATED:20260418T132820Z
LAST-MODIFIED:20260418T132946Z
UID:30046-1776884400-1776893400@www.parokipulogebang.org
SUMMARY:Seminar Keluarga -
DESCRIPTION:Selamat pagi Ibu Bapak dan kawula Muda\, \nParoki Pulo Gebang kembali menghadirkan Seminar Keluarga yang terbuka untuk umum dengan tema Bolehkah bercerai dalam Gereja Katolik? \nAcara ini akan berlangsung pada:\n🗓️ Hari/Tanggal: Rabu\, 22 April 2026\n🕖Waktu: Pukul 19.00 WIB\n🏡Tempat: Aula GKP Lt.2 \nPembicara: Romo Yohanes Radityo Wisnu Wicaksono\, Pr \nSeminar ini bertujuan memberikan pemahaman mendalam mengenai ajaran Gereja Katolik tentang perkawinan\, perceraian\, serta bagaimana umat Katolik dapat menghadapi tantangan dalam kehidupan berkeluarga. Peserta diharapkan memperoleh perspektif teologis sekaligus pastoral yang meneguhkan. \nKegiatan ini terbuka bagi seluruh umat yang ingin memperdalam pengetahuan iman\, khususnya terkait sakramen perkawinan dan komitmen keluarga Katolik. \nMari datang dalam seminar Keluarga ini dan perdalam ajaran Gereja Katolik tentang Perkawinan .Terima kasih. \nBerkah Dalem\, \n 
URL:https://www.parokipulogebang.org/agenda/seminar-keluarga-2/
LOCATION:GKP Lantai 2
ATTACH;FMTTYPE=image/jpeg:https://www.parokipulogebang.org/wp-content/uploads/2026/04/Seminar-Keluarga-April-2026.jpeg
END:VEVENT
BEGIN:VEVENT
DTSTART;TZID=Asia/Krasnoyarsk:20260425T170000
DTEND;TZID=Asia/Krasnoyarsk:20260425T183000
DTSTAMP:20260419T225959
CREATED:20260111T162933Z
LAST-MODIFIED:20260111T162933Z
UID:29491-1777136400-1777141800@www.parokipulogebang.org
SUMMARY:Misa Hari Minggu Paskah IV
DESCRIPTION:
URL:https://www.parokipulogebang.org/agenda/misa-hari-minggu-paskah-iv-16/
LOCATION:Gereja St. Gabriel\, Indonesia
ATTACH;FMTTYPE=image/jpeg:https://www.parokipulogebang.org/wp-content/uploads/2021/07/PGDP-Santo-Gabriel.jpg
END:VEVENT
BEGIN:VEVENT
DTSTART;TZID=Asia/Krasnoyarsk:20260426T063000
DTEND;TZID=Asia/Krasnoyarsk:20260426T080000
DTSTAMP:20260419T225959
CREATED:20260111T162934Z
LAST-MODIFIED:20260111T162934Z
UID:29492-1777185000-1777190400@www.parokipulogebang.org
SUMMARY:Misa Hari Minggu Paskah IV
DESCRIPTION:
URL:https://www.parokipulogebang.org/agenda/misa-hari-minggu-paskah-iv-17/
LOCATION:Gereja St. Gabriel\, Indonesia
ATTACH;FMTTYPE=image/jpeg:https://www.parokipulogebang.org/wp-content/uploads/2021/07/PGDP-Santo-Gabriel.jpg
END:VEVENT
BEGIN:VEVENT
DTSTART;TZID=Asia/Krasnoyarsk:20260426T090000
DTEND;TZID=Asia/Krasnoyarsk:20260426T103000
DTSTAMP:20260419T225959
CREATED:20260111T163131Z
LAST-MODIFIED:20260111T163131Z
UID:29493-1777194000-1777199400@www.parokipulogebang.org
SUMMARY:Misa Hari Minggu Paskah IV
DESCRIPTION:
URL:https://www.parokipulogebang.org/agenda/misa-hari-minggu-paskah-iv-18/
LOCATION:Gereja St. Gabriel\, Indonesia
ATTACH;FMTTYPE=image/jpeg:https://www.parokipulogebang.org/wp-content/uploads/2021/07/PGDP-Santo-Gabriel.jpg
END:VEVENT
BEGIN:VEVENT
DTSTART;TZID=Asia/Krasnoyarsk:20260426T170000
DTEND;TZID=Asia/Krasnoyarsk:20260426T183000
DTSTAMP:20260419T225959
CREATED:20260111T163131Z
LAST-MODIFIED:20260111T163131Z
UID:29494-1777222800-1777228200@www.parokipulogebang.org
SUMMARY:Misa Hari Minggu Paskah IV
DESCRIPTION:
URL:https://www.parokipulogebang.org/agenda/misa-hari-minggu-paskah-iv-19/
LOCATION:Gereja St. Gabriel\, Indonesia
ATTACH;FMTTYPE=image/jpeg:https://www.parokipulogebang.org/wp-content/uploads/2021/07/PGDP-Santo-Gabriel.jpg
END:VEVENT
BEGIN:VEVENT
DTSTART;TZID=Asia/Krasnoyarsk:20260501T190000
DTEND;TZID=Asia/Krasnoyarsk:20260501T203000
DTSTAMP:20260419T225959
CREATED:20260111T163132Z
LAST-MODIFIED:20260111T163132Z
UID:29495-1777662000-1777667400@www.parokipulogebang.org
SUMMARY:Misa Hari Jumat Pertama
DESCRIPTION:
URL:https://www.parokipulogebang.org/agenda/misa-hari-jumat-pertama/
LOCATION:Gereja St. Gabriel\, Indonesia
ATTACH;FMTTYPE=image/jpeg:https://www.parokipulogebang.org/wp-content/uploads/2021/07/PGDP-Santo-Gabriel.jpg
END:VEVENT
BEGIN:VEVENT
DTSTART;TZID=Asia/Krasnoyarsk:20260502T170000
DTEND;TZID=Asia/Krasnoyarsk:20260502T183000
DTSTAMP:20260419T225959
CREATED:20260111T163132Z
LAST-MODIFIED:20260304T161302Z
UID:29496-1777741200-1777746600@www.parokipulogebang.org
SUMMARY:Misa Hari Minggu Paskah V  & Novena IV - Pertobatan Ekologis dan Tahun Yubileum Khusus St. Fransiskus Assisi
DESCRIPTION:
URL:https://www.parokipulogebang.org/agenda/misa-hari-minggu-paskah-v-16/
LOCATION:Gereja St. Gabriel\, Indonesia
ATTACH;FMTTYPE=image/jpeg:https://www.parokipulogebang.org/wp-content/uploads/2021/07/PGDP-Santo-Gabriel.jpg
END:VEVENT
BEGIN:VEVENT
DTSTART;TZID=Asia/Krasnoyarsk:20260502T190000
DTEND;TZID=Asia/Krasnoyarsk:20260502T190000
DTSTAMP:20260419T225959
CREATED:20260414T035358Z
LAST-MODIFIED:20260414T035358Z
UID:30021-1777748400-1777748400@www.parokipulogebang.org
SUMMARY:Kursus Kitab Suci 2026 - Teologi Dasar I
DESCRIPTION:
URL:https://www.parokipulogebang.org/agenda/kursus-kitab-suci-2026-teologi-dasar-i/
LOCATION:zoom meeting
ATTACH;FMTTYPE=image/jpeg:https://www.parokipulogebang.org/wp-content/uploads/2026/04/Kursus-Kitab-suci-2026.jpg
END:VEVENT
BEGIN:VEVENT
DTSTART;TZID=Asia/Krasnoyarsk:20260503T063000
DTEND;TZID=Asia/Krasnoyarsk:20260503T080000
DTSTAMP:20260419T225959
CREATED:20260111T163133Z
LAST-MODIFIED:20260304T161303Z
UID:29497-1777789800-1777795200@www.parokipulogebang.org
SUMMARY:Misa Hari Minggu Paskah V & Novena IV - Pertobatan Ekologis dan Tahun Yubileum Khusus St. Fransiskus Assisi
DESCRIPTION:
URL:https://www.parokipulogebang.org/agenda/misa-hari-minggu-paskah-v-17/
LOCATION:Gereja St. Gabriel\, Indonesia
ATTACH;FMTTYPE=image/jpeg:https://www.parokipulogebang.org/wp-content/uploads/2021/07/PGDP-Santo-Gabriel.jpg
END:VEVENT
BEGIN:VEVENT
DTSTART;TZID=Asia/Krasnoyarsk:20260503T090000
DTEND;TZID=Asia/Krasnoyarsk:20260503T103000
DTSTAMP:20260419T225959
CREATED:20260111T163331Z
LAST-MODIFIED:20260304T161239Z
UID:29498-1777798800-1777804200@www.parokipulogebang.org
SUMMARY:Misa Hari Minggu Paskah V & Novena IV - Pertobatan Ekologis dan Tahun Yubileum Khusus St. Fransiskus Assisi
DESCRIPTION:
URL:https://www.parokipulogebang.org/agenda/misa-hari-minggu-paskah-v-18/
LOCATION:Gereja St. Gabriel\, Indonesia
ATTACH;FMTTYPE=image/jpeg:https://www.parokipulogebang.org/wp-content/uploads/2021/07/PGDP-Santo-Gabriel.jpg
END:VEVENT
BEGIN:VEVENT
DTSTART;TZID=Asia/Krasnoyarsk:20260503T170000
DTEND;TZID=Asia/Krasnoyarsk:20260503T183000
DTSTAMP:20260419T225959
CREATED:20260111T163332Z
LAST-MODIFIED:20260304T161246Z
UID:29499-1777827600-1777833000@www.parokipulogebang.org
SUMMARY:Misa Hari Minggu Paskah V & Novena IV - Pertobatan Ekologis dan Tahun Yubileum Khusus St. Fransiskus Assisi
DESCRIPTION:
URL:https://www.parokipulogebang.org/agenda/misa-hari-minggu-paskah-v-19/
LOCATION:Gereja St. Gabriel\, Indonesia
ATTACH;FMTTYPE=image/jpeg:https://www.parokipulogebang.org/wp-content/uploads/2021/07/PGDP-Santo-Gabriel.jpg
END:VEVENT
BEGIN:VEVENT
DTSTART;TZID=Asia/Krasnoyarsk:20260509T170000
DTEND;TZID=Asia/Krasnoyarsk:20260509T183000
DTSTAMP:20260419T225959
CREATED:20260111T163332Z
LAST-MODIFIED:20260111T163332Z
UID:29500-1778346000-1778351400@www.parokipulogebang.org
SUMMARY:Misa Hari Minggu Paskah VI
DESCRIPTION:
URL:https://www.parokipulogebang.org/agenda/misa-hari-minggu-paskah-vi-16/
LOCATION:Gereja St. Gabriel\, Indonesia
ATTACH;FMTTYPE=image/jpeg:https://www.parokipulogebang.org/wp-content/uploads/2021/07/PGDP-Santo-Gabriel.jpg
END:VEVENT
BEGIN:VEVENT
DTSTART;TZID=Asia/Krasnoyarsk:20260509T190000
DTEND;TZID=Asia/Krasnoyarsk:20260509T190000
DTSTAMP:20260419T225959
CREATED:20260414T035359Z
LAST-MODIFIED:20260414T035359Z
UID:30022-1778353200-1778353200@www.parokipulogebang.org
SUMMARY:Kursus Kitab Suci 2026 - Teologi Dasar I
DESCRIPTION:
URL:https://www.parokipulogebang.org/agenda/kursus-kitab-suci-2026-teologi-dasar-i-2/
LOCATION:zoom meeting
ATTACH;FMTTYPE=image/jpeg:https://www.parokipulogebang.org/wp-content/uploads/2026/04/Kursus-Kitab-suci-2026.jpg
END:VEVENT
BEGIN:VEVENT
DTSTART;TZID=Asia/Krasnoyarsk:20260510T063000
DTEND;TZID=Asia/Krasnoyarsk:20260510T080000
DTSTAMP:20260419T225959
CREATED:20260111T163333Z
LAST-MODIFIED:20260111T163333Z
UID:29501-1778394600-1778400000@www.parokipulogebang.org
SUMMARY:Misa Hari Minggu Paskah VI
DESCRIPTION:
URL:https://www.parokipulogebang.org/agenda/misa-hari-minggu-paskah-vi-17/
LOCATION:Gereja St. Gabriel\, Indonesia
ATTACH;FMTTYPE=image/jpeg:https://www.parokipulogebang.org/wp-content/uploads/2021/07/PGDP-Santo-Gabriel.jpg
END:VEVENT
BEGIN:VEVENT
DTSTART;TZID=Asia/Krasnoyarsk:20260510T090000
DTEND;TZID=Asia/Krasnoyarsk:20260510T103000
DTSTAMP:20260419T225959
CREATED:20260111T163333Z
LAST-MODIFIED:20260111T163333Z
UID:29502-1778403600-1778409000@www.parokipulogebang.org
SUMMARY:Misa Hari Minggu Paskah VI
DESCRIPTION:
URL:https://www.parokipulogebang.org/agenda/misa-hari-minggu-paskah-vi-18/
LOCATION:Gereja St. Gabriel\, Indonesia
ATTACH;FMTTYPE=image/jpeg:https://www.parokipulogebang.org/wp-content/uploads/2021/07/PGDP-Santo-Gabriel.jpg
END:VEVENT
BEGIN:VEVENT
DTSTART;TZID=Asia/Krasnoyarsk:20260510T170000
DTEND;TZID=Asia/Krasnoyarsk:20260510T183000
DTSTAMP:20260419T225959
CREATED:20260111T163353Z
LAST-MODIFIED:20260111T163353Z
UID:29503-1778432400-1778437800@www.parokipulogebang.org
SUMMARY:Misa Hari Minggu Paskah VI
DESCRIPTION:
URL:https://www.parokipulogebang.org/agenda/misa-hari-minggu-paskah-vi-19/
LOCATION:Gereja St. Gabriel\, Indonesia
ATTACH;FMTTYPE=image/jpeg:https://www.parokipulogebang.org/wp-content/uploads/2021/07/PGDP-Santo-Gabriel.jpg
END:VEVENT
BEGIN:VEVENT
DTSTART;TZID=Asia/Krasnoyarsk:20260516T170000
DTEND;TZID=Asia/Krasnoyarsk:20260516T183000
DTSTAMP:20260419T225959
CREATED:20260111T163353Z
LAST-MODIFIED:20260111T163353Z
UID:29504-1778950800-1778956200@www.parokipulogebang.org
SUMMARY:Misa Hari Minggu Paskah VII
DESCRIPTION:
URL:https://www.parokipulogebang.org/agenda/misa-hari-minggu-paskah-vii-15/
LOCATION:Gereja St. Gabriel\, Indonesia
ATTACH;FMTTYPE=image/jpeg:https://www.parokipulogebang.org/wp-content/uploads/2021/07/PGDP-Santo-Gabriel.jpg
END:VEVENT
BEGIN:VEVENT
DTSTART;TZID=Asia/Krasnoyarsk:20260516T190000
DTEND;TZID=Asia/Krasnoyarsk:20260516T190000
DTSTAMP:20260419T225959
CREATED:20260414T035400Z
LAST-MODIFIED:20260414T035400Z
UID:30023-1778958000-1778958000@www.parokipulogebang.org
SUMMARY:Kursus Kitab Suci 2026 - Teologi Dasar I
DESCRIPTION:
URL:https://www.parokipulogebang.org/agenda/kursus-kitab-suci-2026-teologi-dasar-i-3/
LOCATION:zoom meeting
ATTACH;FMTTYPE=image/jpeg:https://www.parokipulogebang.org/wp-content/uploads/2026/04/Kursus-Kitab-suci-2026.jpg
END:VEVENT
BEGIN:VEVENT
DTSTART;TZID=Asia/Krasnoyarsk:20260517T063000
DTEND;TZID=Asia/Krasnoyarsk:20260517T080000
DTSTAMP:20260419T225959
CREATED:20260111T163354Z
LAST-MODIFIED:20260111T163354Z
UID:29505-1778999400-1779004800@www.parokipulogebang.org
SUMMARY:Misa Hari Minggu Paskah VII
DESCRIPTION:
URL:https://www.parokipulogebang.org/agenda/misa-hari-minggu-paskah-vii-16/
LOCATION:Gereja St. Gabriel\, Indonesia
ATTACH;FMTTYPE=image/jpeg:https://www.parokipulogebang.org/wp-content/uploads/2021/07/PGDP-Santo-Gabriel.jpg
END:VEVENT
BEGIN:VEVENT
DTSTART;TZID=Asia/Krasnoyarsk:20260517T090000
DTEND;TZID=Asia/Krasnoyarsk:20260517T103000
DTSTAMP:20260419T225959
CREATED:20260111T163354Z
LAST-MODIFIED:20260111T163354Z
UID:29506-1779008400-1779013800@www.parokipulogebang.org
SUMMARY:Misa Hari Minggu Paskah VII
DESCRIPTION:
URL:https://www.parokipulogebang.org/agenda/misa-hari-minggu-paskah-vii-17/
LOCATION:Gereja St. Gabriel\, Indonesia
ATTACH;FMTTYPE=image/jpeg:https://www.parokipulogebang.org/wp-content/uploads/2021/07/PGDP-Santo-Gabriel.jpg
END:VEVENT
BEGIN:VEVENT
DTSTART;TZID=Asia/Krasnoyarsk:20260517T170000
DTEND;TZID=Asia/Krasnoyarsk:20260517T183000
DTSTAMP:20260419T225959
CREATED:20260111T163355Z
LAST-MODIFIED:20260111T163355Z
UID:29507-1779037200-1779042600@www.parokipulogebang.org
SUMMARY:Misa Hari Minggu Paskah VII
DESCRIPTION:
URL:https://www.parokipulogebang.org/agenda/misa-hari-minggu-paskah-vii-18/
LOCATION:Gereja St. Gabriel\, Indonesia
ATTACH;FMTTYPE=image/jpeg:https://www.parokipulogebang.org/wp-content/uploads/2021/07/PGDP-Santo-Gabriel.jpg
END:VEVENT
BEGIN:VEVENT
DTSTART;TZID=Asia/Krasnoyarsk:20260523T170000
DTEND;TZID=Asia/Krasnoyarsk:20260523T183000
DTSTAMP:20260419T225959
CREATED:20260111T163554Z
LAST-MODIFIED:20260111T163554Z
UID:29508-1779555600-1779561000@www.parokipulogebang.org
SUMMARY:Misa Hari Raya Pentakosta
DESCRIPTION:
URL:https://www.parokipulogebang.org/agenda/misa-hari-raya-pentakosta-15/
LOCATION:Gereja St. Gabriel\, Indonesia
ATTACH;FMTTYPE=image/jpeg:https://www.parokipulogebang.org/wp-content/uploads/2021/07/PGDP-Santo-Gabriel.jpg
END:VEVENT
BEGIN:VEVENT
DTSTART;TZID=Asia/Krasnoyarsk:20260523T190000
DTEND;TZID=Asia/Krasnoyarsk:20260523T190000
DTSTAMP:20260419T225959
CREATED:20260414T035400Z
LAST-MODIFIED:20260414T035400Z
UID:30024-1779562800-1779562800@www.parokipulogebang.org
SUMMARY:Kursus Kitab Suci 2026 - Pengantar Perjanjian Lama
DESCRIPTION:
URL:https://www.parokipulogebang.org/agenda/kursus-kitab-suci-2026-pengantar-perjanjian-lama/
LOCATION:zoom meeting
ATTACH;FMTTYPE=image/jpeg:https://www.parokipulogebang.org/wp-content/uploads/2026/04/Kursus-Kitab-suci-2026.jpg
END:VEVENT
END:VCALENDAR