BEGIN:VCALENDAR
VERSION:2.0
PRODID:-//Paroki Pulo Gebang - KAJ - ECPv6.15.20//NONSGML v1.0//EN
CALSCALE:GREGORIAN
METHOD:PUBLISH
X-WR-CALNAME:Paroki Pulo Gebang - KAJ
X-ORIGINAL-URL:https://www.parokipulogebang.org
X-WR-CALDESC:Events for Paroki Pulo Gebang - KAJ
REFRESH-INTERVAL;VALUE=DURATION:PT1H
X-Robots-Tag:noindex
X-PUBLISHED-TTL:PT1H
BEGIN:VTIMEZONE
TZID:Asia/Krasnoyarsk
BEGIN:STANDARD
TZOFFSETFROM:+0700
TZOFFSETTO:+0700
TZNAME:+07
DTSTART:20210101T000000
END:STANDARD
END:VTIMEZONE
BEGIN:VEVENT
DTSTART;TZID=Asia/Krasnoyarsk:20221002T063000
DTEND;TZID=Asia/Krasnoyarsk:20221002T073000
DTSTAMP:20260423T050000
CREATED:20220303T034914Z
LAST-MODIFIED:20220604T013141Z
UID:18976-1664692200-1664695800@www.parokipulogebang.org
SUMMARY:Misa Hari Minggu Biasa XXVII
DESCRIPTION:
URL:https://www.parokipulogebang.org/agenda/misa-hari-minggu-biasa-xxvii-3/
LOCATION:Gereja St. Gabriel\, Indonesia
ATTACH;FMTTYPE=image/jpeg:https://www.parokipulogebang.org/wp-content/uploads/2021/07/PGDP-Santo-Gabriel.jpg
END:VEVENT
BEGIN:VEVENT
DTSTART;TZID=Asia/Krasnoyarsk:20221001T170000
DTEND;TZID=Asia/Krasnoyarsk:20221001T180000
DTSTAMP:20260423T050000
CREATED:20220303T034914Z
LAST-MODIFIED:20220303T034914Z
UID:18975-1664643600-1664647200@www.parokipulogebang.org
SUMMARY:Misa Hari Minggu Biasa XXVII
DESCRIPTION:
URL:https://www.parokipulogebang.org/agenda/misa-hari-minggu-biasa-xxvii-2/
LOCATION:Gereja St. Gabriel\, Indonesia
ATTACH;FMTTYPE=image/jpeg:https://www.parokipulogebang.org/wp-content/uploads/2021/07/PGDP-Santo-Gabriel.jpg
END:VEVENT
BEGIN:VEVENT
DTSTART;TZID=Asia/Krasnoyarsk:20220930T053000
DTEND;TZID=Asia/Krasnoyarsk:20220930T063000
DTSTAMP:20260423T050000
CREATED:20220303T032253Z
LAST-MODIFIED:20220425T002803Z
UID:18844-1664515800-1664519400@www.parokipulogebang.org
SUMMARY:Misa Harian
DESCRIPTION:
URL:https://www.parokipulogebang.org/agenda/misa-harian-210/
LOCATION:Gereja St. Gabriel\, Indonesia
ATTACH;FMTTYPE=image/jpeg:https://www.parokipulogebang.org/wp-content/uploads/2021/07/PGDP-Santo-Gabriel.jpg
END:VEVENT
BEGIN:VEVENT
DTSTART;TZID=Asia/Krasnoyarsk:20220929T053000
DTEND;TZID=Asia/Krasnoyarsk:20220929T063000
DTSTAMP:20260423T050000
CREATED:20220303T032251Z
LAST-MODIFIED:20220303T032251Z
UID:18843-1664429400-1664433000@www.parokipulogebang.org
SUMMARY:Misa Harian
DESCRIPTION:
URL:https://www.parokipulogebang.org/agenda/misa-harian-209/
LOCATION:Gereja St. Gabriel\, Indonesia
ATTACH;FMTTYPE=image/jpeg:https://www.parokipulogebang.org/wp-content/uploads/2021/07/PGDP-Santo-Gabriel.jpg
END:VEVENT
BEGIN:VEVENT
DTSTART;TZID=Asia/Krasnoyarsk:20220928T053000
DTEND;TZID=Asia/Krasnoyarsk:20220928T063000
DTSTAMP:20260423T050000
CREATED:20220303T032245Z
LAST-MODIFIED:20220303T032245Z
UID:18842-1664343000-1664346600@www.parokipulogebang.org
SUMMARY:Misa Harian
DESCRIPTION:
URL:https://www.parokipulogebang.org/agenda/misa-harian-208/
LOCATION:Gereja St. Gabriel\, Indonesia
ATTACH;FMTTYPE=image/jpeg:https://www.parokipulogebang.org/wp-content/uploads/2021/07/PGDP-Santo-Gabriel.jpg
END:VEVENT
BEGIN:VEVENT
DTSTART;TZID=Asia/Krasnoyarsk:20220927T053000
DTEND;TZID=Asia/Krasnoyarsk:20220927T063000
DTSTAMP:20260423T050000
CREATED:20220303T032235Z
LAST-MODIFIED:20220303T032235Z
UID:18841-1664256600-1664260200@www.parokipulogebang.org
SUMMARY:Misa Harian
DESCRIPTION:
URL:https://www.parokipulogebang.org/agenda/misa-harian-207/
LOCATION:Gereja St. Gabriel\, Indonesia
ATTACH;FMTTYPE=image/jpeg:https://www.parokipulogebang.org/wp-content/uploads/2021/07/PGDP-Santo-Gabriel.jpg
END:VEVENT
BEGIN:VEVENT
DTSTART;TZID=Asia/Krasnoyarsk:20220926T053000
DTEND;TZID=Asia/Krasnoyarsk:20220926T063000
DTSTAMP:20260423T050000
CREATED:20220303T032234Z
LAST-MODIFIED:20220303T032234Z
UID:18840-1664170200-1664173800@www.parokipulogebang.org
SUMMARY:Misa Harian
DESCRIPTION:
URL:https://www.parokipulogebang.org/agenda/misa-harian-206/
LOCATION:Gereja St. Gabriel\, Indonesia
ATTACH;FMTTYPE=image/jpeg:https://www.parokipulogebang.org/wp-content/uploads/2021/07/PGDP-Santo-Gabriel.jpg
END:VEVENT
BEGIN:VEVENT
DTSTART;TZID=Asia/Krasnoyarsk:20220925T170000
DTEND;TZID=Asia/Krasnoyarsk:20220925T180000
DTSTAMP:20260423T050000
CREATED:20220604T033347Z
LAST-MODIFIED:20220604T033347Z
UID:20273-1664125200-1664128800@www.parokipulogebang.org
SUMMARY:Misa Hari Minggu Biasa XXVI
DESCRIPTION:
URL:https://www.parokipulogebang.org/agenda/misa-hari-minggu-biasa-xxvi-6/
ATTACH;FMTTYPE=image/jpeg:https://www.parokipulogebang.org/wp-content/uploads/2021/07/PGDP-Santo-Gabriel.jpg
END:VEVENT
BEGIN:VEVENT
DTSTART;TZID=Asia/Krasnoyarsk:20220925T103000
DTEND;TZID=Asia/Krasnoyarsk:20220925T130000
DTSTAMP:20260423T050000
CREATED:20221003T003513Z
LAST-MODIFIED:20221003T003513Z
UID:21468-1664101800-1664110800@www.parokipulogebang.org
SUMMARY:Rekoleksi Peserta Penerima Sakramen Krisma 2022
DESCRIPTION:
URL:https://www.parokipulogebang.org/agenda/rekoleksi-peserta-penerima-sakramen-krisma-2022/
ATTACH;FMTTYPE=image/jpeg:https://www.parokipulogebang.org/wp-content/uploads/2021/07/PGDP-Santo-Gabriel.jpg
END:VEVENT
BEGIN:VEVENT
DTSTART;TZID=Asia/Krasnoyarsk:20220925T090000
DTEND;TZID=Asia/Krasnoyarsk:20220925T100000
DTSTAMP:20260423T050000
CREATED:20220303T034913Z
LAST-MODIFIED:20220604T012832Z
UID:18974-1664096400-1664100000@www.parokipulogebang.org
SUMMARY:Misa Hari Minggu Biasa XXVI
DESCRIPTION:
URL:https://www.parokipulogebang.org/agenda/misa-hari-minggu-biasa-xxvi-4/
LOCATION:Gereja St. Gabriel\, Indonesia
ATTACH;FMTTYPE=image/jpeg:https://www.parokipulogebang.org/wp-content/uploads/2021/07/PGDP-Santo-Gabriel.jpg
END:VEVENT
BEGIN:VEVENT
DTSTART;TZID=Asia/Krasnoyarsk:20220925T063000
DTEND;TZID=Asia/Krasnoyarsk:20220925T073000
DTSTAMP:20260423T050000
CREATED:20220303T034907Z
LAST-MODIFIED:20220604T012819Z
UID:18973-1664087400-1664091000@www.parokipulogebang.org
SUMMARY:Misa Hari Minggu Biasa XXVI
DESCRIPTION:
URL:https://www.parokipulogebang.org/agenda/misa-hari-minggu-biasa-xxvi-3/
LOCATION:Gereja St. Gabriel\, Indonesia
ATTACH;FMTTYPE=image/jpeg:https://www.parokipulogebang.org/wp-content/uploads/2021/07/PGDP-Santo-Gabriel.jpg
END:VEVENT
BEGIN:VEVENT
DTSTART;TZID=Asia/Krasnoyarsk:20220924T170000
DTEND;TZID=Asia/Krasnoyarsk:20220924T180000
DTSTAMP:20260423T050000
CREATED:20220303T034904Z
LAST-MODIFIED:20220303T034904Z
UID:18972-1664038800-1664042400@www.parokipulogebang.org
SUMMARY:Misa Hari Minggu Biasa XXVI
DESCRIPTION:
URL:https://www.parokipulogebang.org/agenda/misa-hari-minggu-biasa-xxvi-2/
LOCATION:Gereja St. Gabriel\, Indonesia
ATTACH;FMTTYPE=image/jpeg:https://www.parokipulogebang.org/wp-content/uploads/2021/07/PGDP-Santo-Gabriel.jpg
END:VEVENT
BEGIN:VEVENT
DTSTART;TZID=Asia/Krasnoyarsk:20220923T053000
DTEND;TZID=Asia/Krasnoyarsk:20220923T063000
DTSTAMP:20260423T050000
CREATED:20220303T032233Z
LAST-MODIFIED:20220425T002728Z
UID:18839-1663911000-1663914600@www.parokipulogebang.org
SUMMARY:Misa Harian
DESCRIPTION:
URL:https://www.parokipulogebang.org/agenda/misa-harian-205/
LOCATION:Gereja St. Gabriel\, Indonesia
ATTACH;FMTTYPE=image/jpeg:https://www.parokipulogebang.org/wp-content/uploads/2021/07/PGDP-Santo-Gabriel.jpg
END:VEVENT
BEGIN:VEVENT
DTSTART;TZID=Asia/Krasnoyarsk:20220922T053000
DTEND;TZID=Asia/Krasnoyarsk:20220922T063000
DTSTAMP:20260423T050000
CREATED:20220303T032232Z
LAST-MODIFIED:20220303T032232Z
UID:18838-1663824600-1663828200@www.parokipulogebang.org
SUMMARY:Misa Harian
DESCRIPTION:
URL:https://www.parokipulogebang.org/agenda/misa-harian-204/
LOCATION:Gereja St. Gabriel\, Indonesia
ATTACH;FMTTYPE=image/jpeg:https://www.parokipulogebang.org/wp-content/uploads/2021/07/PGDP-Santo-Gabriel.jpg
END:VEVENT
BEGIN:VEVENT
DTSTART;TZID=Asia/Krasnoyarsk:20220921T053000
DTEND;TZID=Asia/Krasnoyarsk:20220921T063000
DTSTAMP:20260423T050000
CREATED:20220303T032230Z
LAST-MODIFIED:20220303T032230Z
UID:18837-1663738200-1663741800@www.parokipulogebang.org
SUMMARY:Misa Harian
DESCRIPTION:
URL:https://www.parokipulogebang.org/agenda/misa-harian-203/
LOCATION:Gereja St. Gabriel\, Indonesia
ATTACH;FMTTYPE=image/jpeg:https://www.parokipulogebang.org/wp-content/uploads/2021/07/PGDP-Santo-Gabriel.jpg
END:VEVENT
BEGIN:VEVENT
DTSTART;TZID=Asia/Krasnoyarsk:20220920T053000
DTEND;TZID=Asia/Krasnoyarsk:20220920T063000
DTSTAMP:20260423T050000
CREATED:20220303T032208Z
LAST-MODIFIED:20220303T032208Z
UID:18836-1663651800-1663655400@www.parokipulogebang.org
SUMMARY:Misa Harian
DESCRIPTION:
URL:https://www.parokipulogebang.org/agenda/misa-harian-202/
LOCATION:Gereja St. Gabriel\, Indonesia
ATTACH;FMTTYPE=image/jpeg:https://www.parokipulogebang.org/wp-content/uploads/2021/07/PGDP-Santo-Gabriel.jpg
END:VEVENT
BEGIN:VEVENT
DTSTART;TZID=Asia/Krasnoyarsk:20220919T053000
DTEND;TZID=Asia/Krasnoyarsk:20220919T063000
DTSTAMP:20260423T050000
CREATED:20220303T032206Z
LAST-MODIFIED:20220303T032206Z
UID:18835-1663565400-1663569000@www.parokipulogebang.org
SUMMARY:Misa Harian
DESCRIPTION:
URL:https://www.parokipulogebang.org/agenda/misa-harian-201/
LOCATION:Gereja St. Gabriel\, Indonesia
ATTACH;FMTTYPE=image/jpeg:https://www.parokipulogebang.org/wp-content/uploads/2021/07/PGDP-Santo-Gabriel.jpg
END:VEVENT
BEGIN:VEVENT
DTSTART;TZID=Asia/Krasnoyarsk:20220918T170000
DTEND;TZID=Asia/Krasnoyarsk:20220918T180000
DTSTAMP:20260423T050000
CREATED:20220604T033337Z
LAST-MODIFIED:20220604T033337Z
UID:20272-1663520400-1663524000@www.parokipulogebang.org
SUMMARY:Misa Hari Minggu Biasa XXIV
DESCRIPTION:
URL:https://www.parokipulogebang.org/agenda/misa-hari-minggu-biasa-xxiv-7/
ATTACH;FMTTYPE=image/jpeg:https://www.parokipulogebang.org/wp-content/uploads/2021/07/PGDP-Santo-Gabriel.jpg
END:VEVENT
BEGIN:VEVENT
DTSTART;TZID=Asia/Krasnoyarsk:20220918T090000
DTEND;TZID=Asia/Krasnoyarsk:20220918T100000
DTSTAMP:20260423T050000
CREATED:20220303T034902Z
LAST-MODIFIED:20220604T012802Z
UID:18971-1663491600-1663495200@www.parokipulogebang.org
SUMMARY:Misa Hari Minggu Biasa XXV
DESCRIPTION:
URL:https://www.parokipulogebang.org/agenda/misa-hari-minggu-biasa-xxv-4/
LOCATION:Gereja St. Gabriel\, Indonesia
ATTACH;FMTTYPE=image/jpeg:https://www.parokipulogebang.org/wp-content/uploads/2021/07/PGDP-Santo-Gabriel.jpg
END:VEVENT
BEGIN:VEVENT
DTSTART;TZID=Asia/Krasnoyarsk:20220918T063000
DTEND;TZID=Asia/Krasnoyarsk:20220918T073000
DTSTAMP:20260423T050000
CREATED:20220303T034900Z
LAST-MODIFIED:20220604T012750Z
UID:18970-1663482600-1663486200@www.parokipulogebang.org
SUMMARY:Misa Hari Minggu Biasa XXV
DESCRIPTION:
URL:https://www.parokipulogebang.org/agenda/misa-hari-minggu-biasa-xxv-3/
LOCATION:Gereja St. Gabriel\, Indonesia
ATTACH;FMTTYPE=image/jpeg:https://www.parokipulogebang.org/wp-content/uploads/2021/07/PGDP-Santo-Gabriel.jpg
END:VEVENT
BEGIN:VEVENT
DTSTART;TZID=Asia/Krasnoyarsk:20220917T170000
DTEND;TZID=Asia/Krasnoyarsk:20220917T180000
DTSTAMP:20260423T050000
CREATED:20220303T034858Z
LAST-MODIFIED:20220303T034858Z
UID:18969-1663434000-1663437600@www.parokipulogebang.org
SUMMARY:Misa Hari Minggu Biasa XXV
DESCRIPTION:
URL:https://www.parokipulogebang.org/agenda/misa-hari-minggu-biasa-xxv-2/
LOCATION:Gereja St. Gabriel\, Indonesia
ATTACH;FMTTYPE=image/jpeg:https://www.parokipulogebang.org/wp-content/uploads/2021/07/PGDP-Santo-Gabriel.jpg
END:VEVENT
BEGIN:VEVENT
DTSTART;TZID=Asia/Krasnoyarsk:20220916T053000
DTEND;TZID=Asia/Krasnoyarsk:20220916T063000
DTSTAMP:20260423T050000
CREATED:20220303T032203Z
LAST-MODIFIED:20220425T002815Z
UID:18834-1663306200-1663309800@www.parokipulogebang.org
SUMMARY:Misa Harian
DESCRIPTION:
URL:https://www.parokipulogebang.org/agenda/misa-harian-200/
LOCATION:Gereja St. Gabriel\, Indonesia
ATTACH;FMTTYPE=image/jpeg:https://www.parokipulogebang.org/wp-content/uploads/2021/07/PGDP-Santo-Gabriel.jpg
END:VEVENT
BEGIN:VEVENT
DTSTART;TZID=Asia/Krasnoyarsk:20220915T053000
DTEND;TZID=Asia/Krasnoyarsk:20220915T063000
DTSTAMP:20260423T050000
CREATED:20220303T032201Z
LAST-MODIFIED:20220303T032201Z
UID:18833-1663219800-1663223400@www.parokipulogebang.org
SUMMARY:Misa Harian
DESCRIPTION:
URL:https://www.parokipulogebang.org/agenda/misa-harian-199/
LOCATION:Gereja St. Gabriel\, Indonesia
ATTACH;FMTTYPE=image/jpeg:https://www.parokipulogebang.org/wp-content/uploads/2021/07/PGDP-Santo-Gabriel.jpg
END:VEVENT
BEGIN:VEVENT
DTSTART;TZID=Asia/Krasnoyarsk:20220914T053000
DTEND;TZID=Asia/Krasnoyarsk:20220914T063000
DTSTAMP:20260423T050000
CREATED:20220303T032158Z
LAST-MODIFIED:20220303T032158Z
UID:18832-1663133400-1663137000@www.parokipulogebang.org
SUMMARY:Misa Harian
DESCRIPTION:
URL:https://www.parokipulogebang.org/agenda/misa-harian-198/
LOCATION:Gereja St. Gabriel\, Indonesia
ATTACH;FMTTYPE=image/jpeg:https://www.parokipulogebang.org/wp-content/uploads/2021/07/PGDP-Santo-Gabriel.jpg
END:VEVENT
BEGIN:VEVENT
DTSTART;TZID=Asia/Krasnoyarsk:20220913T053000
DTEND;TZID=Asia/Krasnoyarsk:20220913T063000
DTSTAMP:20260423T050000
CREATED:20220303T032008Z
LAST-MODIFIED:20220303T032008Z
UID:18831-1663047000-1663050600@www.parokipulogebang.org
SUMMARY:Misa Harian
DESCRIPTION:
URL:https://www.parokipulogebang.org/agenda/misa-harian-197/
LOCATION:Gereja St. Gabriel\, Indonesia
ATTACH;FMTTYPE=image/jpeg:https://www.parokipulogebang.org/wp-content/uploads/2021/07/PGDP-Santo-Gabriel.jpg
END:VEVENT
BEGIN:VEVENT
DTSTART;TZID=Asia/Krasnoyarsk:20220912T053000
DTEND;TZID=Asia/Krasnoyarsk:20220912T063000
DTSTAMP:20260423T050000
CREATED:20220303T032005Z
LAST-MODIFIED:20220303T032005Z
UID:18830-1662960600-1662964200@www.parokipulogebang.org
SUMMARY:Misa Harian
DESCRIPTION:
URL:https://www.parokipulogebang.org/agenda/misa-harian-196/
LOCATION:Gereja St. Gabriel\, Indonesia
ATTACH;FMTTYPE=image/jpeg:https://www.parokipulogebang.org/wp-content/uploads/2021/07/PGDP-Santo-Gabriel.jpg
END:VEVENT
BEGIN:VEVENT
DTSTART;TZID=Asia/Krasnoyarsk:20220911T170000
DTEND;TZID=Asia/Krasnoyarsk:20220911T180000
DTSTAMP:20260423T050000
CREATED:20220604T033336Z
LAST-MODIFIED:20220604T033336Z
UID:20271-1662915600-1662919200@www.parokipulogebang.org
SUMMARY:Misa Hari Minggu Biasa XXIV
DESCRIPTION:
URL:https://www.parokipulogebang.org/agenda/misa-hari-minggu-biasa-xxiv-6/
ATTACH;FMTTYPE=image/jpeg:https://www.parokipulogebang.org/wp-content/uploads/2021/07/PGDP-Santo-Gabriel.jpg
END:VEVENT
BEGIN:VEVENT
DTSTART;TZID=Asia/Krasnoyarsk:20220911T090000
DTEND;TZID=Asia/Krasnoyarsk:20220911T100000
DTSTAMP:20260423T050000
CREATED:20220303T034854Z
LAST-MODIFIED:20220604T012546Z
UID:18968-1662886800-1662890400@www.parokipulogebang.org
SUMMARY:Misa Hari Minggu Biasa XXIV
DESCRIPTION:
URL:https://www.parokipulogebang.org/agenda/misa-hari-minggu-biasa-xxiv-4/
LOCATION:Gereja St. Gabriel\, Indonesia
ATTACH;FMTTYPE=image/jpeg:https://www.parokipulogebang.org/wp-content/uploads/2021/07/PGDP-Santo-Gabriel.jpg
END:VEVENT
BEGIN:VEVENT
DTSTART;TZID=Asia/Krasnoyarsk:20220911T063000
DTEND;TZID=Asia/Krasnoyarsk:20220911T073000
DTSTAMP:20260423T050000
CREATED:20220303T034852Z
LAST-MODIFIED:20220604T012554Z
UID:18967-1662877800-1662881400@www.parokipulogebang.org
SUMMARY:Misa Hari Minggu Biasa XXIV
DESCRIPTION:
URL:https://www.parokipulogebang.org/agenda/misa-hari-minggu-biasa-xxiv-3/
LOCATION:Gereja St. Gabriel\, Indonesia
ATTACH;FMTTYPE=image/jpeg:https://www.parokipulogebang.org/wp-content/uploads/2021/07/PGDP-Santo-Gabriel.jpg
END:VEVENT
BEGIN:VEVENT
DTSTART;TZID=Asia/Krasnoyarsk:20220910T170000
DTEND;TZID=Asia/Krasnoyarsk:20220910T180000
DTSTAMP:20260423T050000
CREATED:20220303T034849Z
LAST-MODIFIED:20220303T034849Z
UID:18966-1662829200-1662832800@www.parokipulogebang.org
SUMMARY:Misa Hari Minggu Biasa XXIV
DESCRIPTION:
URL:https://www.parokipulogebang.org/agenda/misa-hari-minggu-biasa-xxiv-2/
LOCATION:Gereja St. Gabriel\, Indonesia
ATTACH;FMTTYPE=image/jpeg:https://www.parokipulogebang.org/wp-content/uploads/2021/07/PGDP-Santo-Gabriel.jpg
END:VEVENT
END:VCALENDAR