BEGIN:VCALENDAR
VERSION:2.0
PRODID:-//Paroki Pulo Gebang - KAJ - ECPv6.15.20//NONSGML v1.0//EN
CALSCALE:GREGORIAN
METHOD:PUBLISH
X-WR-CALNAME:Paroki Pulo Gebang - KAJ
X-ORIGINAL-URL:https://www.parokipulogebang.org
X-WR-CALDESC:Events for Paroki Pulo Gebang - KAJ
REFRESH-INTERVAL;VALUE=DURATION:PT1H
X-Robots-Tag:noindex
X-PUBLISHED-TTL:PT1H
BEGIN:VTIMEZONE
TZID:Asia/Krasnoyarsk
BEGIN:STANDARD
TZOFFSETFROM:+0700
TZOFFSETTO:+0700
TZNAME:+07
DTSTART:20230101T000000
END:STANDARD
END:VTIMEZONE
BEGIN:VEVENT
DTSTART;TZID=Asia/Krasnoyarsk:20240929T170000
DTEND;TZID=Asia/Krasnoyarsk:20240929T183000
DTSTAMP:20260425T061518
CREATED:20240502T142227Z
LAST-MODIFIED:20240502T142227Z
UID:27764-1727629200-1727634600@www.parokipulogebang.org
SUMMARY:Misa Hari Minggu Biasa XXVI
DESCRIPTION:
URL:https://www.parokipulogebang.org/agenda/misa-hari-minggu-biasa-xxvi-12/
LOCATION:Gereja St. Gabriel\, Indonesia
ATTACH;FMTTYPE=image/jpeg:https://www.parokipulogebang.org/wp-content/uploads/2021/07/PGDP-Santo-Gabriel.jpg
END:VEVENT
BEGIN:VEVENT
DTSTART;TZID=Asia/Krasnoyarsk:20240929T090000
DTEND;TZID=Asia/Krasnoyarsk:20240929T103000
DTSTAMP:20260425T061518
CREATED:20240502T142227Z
LAST-MODIFIED:20240502T142227Z
UID:27763-1727600400-1727605800@www.parokipulogebang.org
SUMMARY:Misa Hari Minggu Biasa XXVI & Peringatan Pesta Nama Santo Gabriel
DESCRIPTION:
URL:https://www.parokipulogebang.org/agenda/misa-hari-minggu-biasa-xxvi-peringatan-pesta-nama-santo-gabriel/
LOCATION:Gereja St. Gabriel\, Indonesia
ATTACH;FMTTYPE=image/jpeg:https://www.parokipulogebang.org/wp-content/uploads/2021/07/PGDP-Santo-Gabriel.jpg
END:VEVENT
BEGIN:VEVENT
DTSTART;TZID=Asia/Krasnoyarsk:20240929T063000
DTEND;TZID=Asia/Krasnoyarsk:20240929T080000
DTSTAMP:20260425T061518
CREATED:20240502T142203Z
LAST-MODIFIED:20240502T142203Z
UID:27762-1727591400-1727596800@www.parokipulogebang.org
SUMMARY:Misa Hari Minggu Biasa XXVI
DESCRIPTION:
URL:https://www.parokipulogebang.org/agenda/misa-hari-minggu-biasa-xxvi-11/
LOCATION:Gereja St. Gabriel\, Indonesia
ATTACH;FMTTYPE=image/jpeg:https://www.parokipulogebang.org/wp-content/uploads/2021/07/PGDP-Santo-Gabriel.jpg
END:VEVENT
BEGIN:VEVENT
DTSTART;TZID=Asia/Krasnoyarsk:20240928T170000
DTEND;TZID=Asia/Krasnoyarsk:20240928T183000
DTSTAMP:20260425T061518
CREATED:20240502T142203Z
LAST-MODIFIED:20240502T142203Z
UID:27761-1727542800-1727548200@www.parokipulogebang.org
SUMMARY:Misa Hari Minggu Biasa XXVI & Penerimaan Sakramen Krisma
DESCRIPTION:
URL:https://www.parokipulogebang.org/agenda/misa-hari-minggu-biasa-xxvi-penerimaan-sakramen-krisma/
LOCATION:Gereja St. Gabriel\, Indonesia
ATTACH;FMTTYPE=image/jpeg:https://www.parokipulogebang.org/wp-content/uploads/2021/07/PGDP-Santo-Gabriel.jpg
END:VEVENT
BEGIN:VEVENT
DTSTART;TZID=Asia/Krasnoyarsk:20240922T170000
DTEND;TZID=Asia/Krasnoyarsk:20240922T183000
DTSTAMP:20260425T061519
CREATED:20240502T142202Z
LAST-MODIFIED:20240502T142202Z
UID:27760-1727024400-1727029800@www.parokipulogebang.org
SUMMARY:Misa Hari Minggu Biasa XXV
DESCRIPTION:
URL:https://www.parokipulogebang.org/agenda/misa-hari-minggu-biasa-xxv-12/
LOCATION:Gereja St. Gabriel\, Indonesia
ATTACH;FMTTYPE=image/jpeg:https://www.parokipulogebang.org/wp-content/uploads/2021/07/PGDP-Santo-Gabriel.jpg
END:VEVENT
BEGIN:VEVENT
DTSTART;TZID=Asia/Krasnoyarsk:20240922T090000
DTEND;TZID=Asia/Krasnoyarsk:20240922T103000
DTSTAMP:20260425T061519
CREATED:20240502T142202Z
LAST-MODIFIED:20240502T142202Z
UID:27759-1726995600-1727001000@www.parokipulogebang.org
SUMMARY:Misa Hari Minggu Biasa XXV
DESCRIPTION:
URL:https://www.parokipulogebang.org/agenda/misa-hari-minggu-biasa-xxv-11/
LOCATION:Gereja St. Gabriel\, Indonesia
ATTACH;FMTTYPE=image/jpeg:https://www.parokipulogebang.org/wp-content/uploads/2021/07/PGDP-Santo-Gabriel.jpg
END:VEVENT
BEGIN:VEVENT
DTSTART;TZID=Asia/Krasnoyarsk:20240922T063000
DTEND;TZID=Asia/Krasnoyarsk:20240922T080000
DTSTAMP:20260425T061519
CREATED:20240502T142202Z
LAST-MODIFIED:20240502T142202Z
UID:27758-1726986600-1726992000@www.parokipulogebang.org
SUMMARY:Misa Hari Minggu Biasa XXV
DESCRIPTION:
URL:https://www.parokipulogebang.org/agenda/misa-hari-minggu-biasa-xxv-10/
LOCATION:Gereja St. Gabriel\, Indonesia
ATTACH;FMTTYPE=image/jpeg:https://www.parokipulogebang.org/wp-content/uploads/2021/07/PGDP-Santo-Gabriel.jpg
END:VEVENT
BEGIN:VEVENT
DTSTART;TZID=Asia/Krasnoyarsk:20240921T170000
DTEND;TZID=Asia/Krasnoyarsk:20240921T183000
DTSTAMP:20260425T061519
CREATED:20240502T142004Z
LAST-MODIFIED:20240502T142004Z
UID:27757-1726938000-1726943400@www.parokipulogebang.org
SUMMARY:Misa Hari Minggu Biasa XXV
DESCRIPTION:
URL:https://www.parokipulogebang.org/agenda/misa-hari-minggu-biasa-xxv-9/
LOCATION:Gereja St. Gabriel\, Indonesia
ATTACH;FMTTYPE=image/jpeg:https://www.parokipulogebang.org/wp-content/uploads/2021/07/PGDP-Santo-Gabriel.jpg
END:VEVENT
BEGIN:VEVENT
DTSTART;TZID=Asia/Krasnoyarsk:20240915T170000
DTEND;TZID=Asia/Krasnoyarsk:20240915T183000
DTSTAMP:20260425T061519
CREATED:20240502T142004Z
LAST-MODIFIED:20240502T142004Z
UID:27756-1726419600-1726425000@www.parokipulogebang.org
SUMMARY:Misa Hari Minggu Biasa XXIV
DESCRIPTION:
URL:https://www.parokipulogebang.org/agenda/misa-hari-minggu-biasa-xxiv-15/
LOCATION:Gereja St. Gabriel\, Indonesia
ATTACH;FMTTYPE=image/jpeg:https://www.parokipulogebang.org/wp-content/uploads/2021/07/PGDP-Santo-Gabriel.jpg
END:VEVENT
BEGIN:VEVENT
DTSTART;TZID=Asia/Krasnoyarsk:20240915T090000
DTEND;TZID=Asia/Krasnoyarsk:20240915T103000
DTSTAMP:20260425T061519
CREATED:20240502T142004Z
LAST-MODIFIED:20240502T142004Z
UID:27755-1726390800-1726396200@www.parokipulogebang.org
SUMMARY:Misa Hari Minggu Biasa XXIV
DESCRIPTION:
URL:https://www.parokipulogebang.org/agenda/misa-hari-minggu-biasa-xxiv-14/
LOCATION:Gereja St. Gabriel\, Indonesia
ATTACH;FMTTYPE=image/jpeg:https://www.parokipulogebang.org/wp-content/uploads/2021/07/PGDP-Santo-Gabriel.jpg
END:VEVENT
BEGIN:VEVENT
DTSTART;TZID=Asia/Krasnoyarsk:20240915T063000
DTEND;TZID=Asia/Krasnoyarsk:20240915T080000
DTSTAMP:20260425T061519
CREATED:20240502T142004Z
LAST-MODIFIED:20240502T142004Z
UID:27754-1726381800-1726387200@www.parokipulogebang.org
SUMMARY:Misa Hari Minggu Biasa XXIV
DESCRIPTION:
URL:https://www.parokipulogebang.org/agenda/misa-hari-minggu-biasa-xxiv-13/
LOCATION:Gereja St. Gabriel\, Indonesia
ATTACH;FMTTYPE=image/jpeg:https://www.parokipulogebang.org/wp-content/uploads/2021/07/PGDP-Santo-Gabriel.jpg
END:VEVENT
BEGIN:VEVENT
DTSTART;TZID=Asia/Krasnoyarsk:20240914T170000
DTEND;TZID=Asia/Krasnoyarsk:20240914T183000
DTSTAMP:20260425T061519
CREATED:20240502T142003Z
LAST-MODIFIED:20240502T142003Z
UID:27753-1726333200-1726338600@www.parokipulogebang.org
SUMMARY:Misa Hari Minggu Biasa XXIV
DESCRIPTION:
URL:https://www.parokipulogebang.org/agenda/misa-hari-minggu-biasa-xxiv-12/
LOCATION:Gereja St. Gabriel\, Indonesia
ATTACH;FMTTYPE=image/jpeg:https://www.parokipulogebang.org/wp-content/uploads/2021/07/PGDP-Santo-Gabriel.jpg
END:VEVENT
BEGIN:VEVENT
DTSTART;TZID=Asia/Krasnoyarsk:20240908T170000
DTEND;TZID=Asia/Krasnoyarsk:20240908T183000
DTSTAMP:20260425T061519
CREATED:20240502T141948Z
LAST-MODIFIED:20240502T141948Z
UID:27752-1725814800-1725820200@www.parokipulogebang.org
SUMMARY:Misa Hari Minggu Biasa XXIII
DESCRIPTION:
URL:https://www.parokipulogebang.org/agenda/misa-hari-minggu-biasa-xxiii-14/
LOCATION:Gereja St. Gabriel\, Indonesia
ATTACH;FMTTYPE=image/jpeg:https://www.parokipulogebang.org/wp-content/uploads/2021/07/PGDP-Santo-Gabriel.jpg
END:VEVENT
BEGIN:VEVENT
DTSTART;TZID=Asia/Krasnoyarsk:20240908T090000
DTEND;TZID=Asia/Krasnoyarsk:20240908T103000
DTSTAMP:20260425T061519
CREATED:20240502T141947Z
LAST-MODIFIED:20240502T141947Z
UID:27751-1725786000-1725791400@www.parokipulogebang.org
SUMMARY:Misa Hari Minggu Biasa XXIII
DESCRIPTION:
URL:https://www.parokipulogebang.org/agenda/misa-hari-minggu-biasa-xxiii-13/
LOCATION:Gereja St. Gabriel\, Indonesia
ATTACH;FMTTYPE=image/jpeg:https://www.parokipulogebang.org/wp-content/uploads/2021/07/PGDP-Santo-Gabriel.jpg
END:VEVENT
BEGIN:VEVENT
DTSTART;TZID=Asia/Krasnoyarsk:20240908T063000
DTEND;TZID=Asia/Krasnoyarsk:20240908T080000
DTSTAMP:20260425T061519
CREATED:20240502T141947Z
LAST-MODIFIED:20240502T141947Z
UID:27750-1725777000-1725782400@www.parokipulogebang.org
SUMMARY:Misa Hari Minggu Biasa XXIII
DESCRIPTION:
URL:https://www.parokipulogebang.org/agenda/misa-hari-minggu-biasa-xxiii-12/
LOCATION:Gereja St. Gabriel\, Indonesia
ATTACH;FMTTYPE=image/jpeg:https://www.parokipulogebang.org/wp-content/uploads/2021/07/PGDP-Santo-Gabriel.jpg
END:VEVENT
BEGIN:VEVENT
DTSTART;TZID=Asia/Krasnoyarsk:20240907T170000
DTEND;TZID=Asia/Krasnoyarsk:20240907T183000
DTSTAMP:20260425T061519
CREATED:20240502T141947Z
LAST-MODIFIED:20240502T141947Z
UID:27749-1725728400-1725733800@www.parokipulogebang.org
SUMMARY:Misa Hari Minggu Biasa XXIII
DESCRIPTION:
URL:https://www.parokipulogebang.org/agenda/misa-hari-minggu-biasa-xxiii-11/
LOCATION:Gereja St. Gabriel\, Indonesia
ATTACH;FMTTYPE=image/jpeg:https://www.parokipulogebang.org/wp-content/uploads/2021/07/PGDP-Santo-Gabriel.jpg
END:VEVENT
BEGIN:VEVENT
DTSTART;TZID=Asia/Krasnoyarsk:20240906T190000
DTEND;TZID=Asia/Krasnoyarsk:20240906T203000
DTSTAMP:20260425T061519
CREATED:20240502T141646Z
LAST-MODIFIED:20240502T141646Z
UID:27688-1725649200-1725654600@www.parokipulogebang.org
SUMMARY:Misa Jumat Pertama
DESCRIPTION:
URL:https://www.parokipulogebang.org/agenda/misa-jumat-pertama-9/
LOCATION:Gereja St. Gabriel\, Indonesia
ATTACH;FMTTYPE=image/jpeg:https://www.parokipulogebang.org/wp-content/uploads/2021/07/PGDP-Santo-Gabriel.jpg
END:VEVENT
BEGIN:VEVENT
DTSTART;TZID=Asia/Krasnoyarsk:20240901T170000
DTEND;TZID=Asia/Krasnoyarsk:20240901T183000
DTSTAMP:20260425T061519
CREATED:20240502T141947Z
LAST-MODIFIED:20240502T141947Z
UID:27748-1725210000-1725215400@www.parokipulogebang.org
SUMMARY:Misa Hari Minggu Biasa XXII
DESCRIPTION:
URL:https://www.parokipulogebang.org/agenda/misa-hari-minggu-biasa-xxii-10/
LOCATION:Gereja St. Gabriel\, Indonesia
ATTACH;FMTTYPE=image/jpeg:https://www.parokipulogebang.org/wp-content/uploads/2021/07/PGDP-Santo-Gabriel.jpg
END:VEVENT
BEGIN:VEVENT
DTSTART;TZID=Asia/Krasnoyarsk:20240901T090000
DTEND;TZID=Asia/Krasnoyarsk:20240901T103000
DTSTAMP:20260425T061519
CREATED:20240502T141932Z
LAST-MODIFIED:20240502T141932Z
UID:27747-1725181200-1725186600@www.parokipulogebang.org
SUMMARY:Misa Hari Minggu Biasa XXII
DESCRIPTION:
URL:https://www.parokipulogebang.org/agenda/misa-hari-minggu-biasa-xxii-9/
LOCATION:Gereja St. Gabriel\, Indonesia
ATTACH;FMTTYPE=image/jpeg:https://www.parokipulogebang.org/wp-content/uploads/2021/07/PGDP-Santo-Gabriel.jpg
END:VEVENT
BEGIN:VEVENT
DTSTART;TZID=Asia/Krasnoyarsk:20240901T063000
DTEND;TZID=Asia/Krasnoyarsk:20240901T080000
DTSTAMP:20260425T061519
CREATED:20240502T141932Z
LAST-MODIFIED:20240502T141932Z
UID:27746-1725172200-1725177600@www.parokipulogebang.org
SUMMARY:Misa Hari Minggu Biasa XXII
DESCRIPTION:
URL:https://www.parokipulogebang.org/agenda/misa-hari-minggu-biasa-xxii-8/
LOCATION:Gereja St. Gabriel\, Indonesia
ATTACH;FMTTYPE=image/jpeg:https://www.parokipulogebang.org/wp-content/uploads/2021/07/PGDP-Santo-Gabriel.jpg
END:VEVENT
BEGIN:VEVENT
DTSTART;TZID=Asia/Krasnoyarsk:20240831T170000
DTEND;TZID=Asia/Krasnoyarsk:20240831T183000
DTSTAMP:20260425T061519
CREATED:20240502T141932Z
LAST-MODIFIED:20240502T141932Z
UID:27745-1725123600-1725129000@www.parokipulogebang.org
SUMMARY:Misa Hari Minggu Biasa XXII
DESCRIPTION:
URL:https://www.parokipulogebang.org/agenda/misa-hari-minggu-biasa-xxii-7/
LOCATION:Gereja St. Gabriel\, Indonesia
ATTACH;FMTTYPE=image/jpeg:https://www.parokipulogebang.org/wp-content/uploads/2021/07/PGDP-Santo-Gabriel.jpg
END:VEVENT
BEGIN:VEVENT
DTSTART;TZID=Asia/Krasnoyarsk:20240825T170000
DTEND;TZID=Asia/Krasnoyarsk:20240825T183000
DTSTAMP:20260425T061519
CREATED:20240502T141932Z
LAST-MODIFIED:20240502T141932Z
UID:27744-1724605200-1724610600@www.parokipulogebang.org
SUMMARY:Misa Hari Minggu Biasa XXI
DESCRIPTION:
URL:https://www.parokipulogebang.org/agenda/misa-hari-minggu-biasa-xxi-14/
LOCATION:Gereja St. Gabriel\, Indonesia
ATTACH;FMTTYPE=image/jpeg:https://www.parokipulogebang.org/wp-content/uploads/2021/07/PGDP-Santo-Gabriel.jpg
END:VEVENT
BEGIN:VEVENT
DTSTART;TZID=Asia/Krasnoyarsk:20240825T090000
DTEND;TZID=Asia/Krasnoyarsk:20240825T103000
DTSTAMP:20260425T061519
CREATED:20240502T141931Z
LAST-MODIFIED:20240502T141931Z
UID:27743-1724576400-1724581800@www.parokipulogebang.org
SUMMARY:Misa Hari Minggu Biasa XXI
DESCRIPTION:
URL:https://www.parokipulogebang.org/agenda/misa-hari-minggu-biasa-xxi-13/
LOCATION:Gereja St. Gabriel\, Indonesia
ATTACH;FMTTYPE=image/jpeg:https://www.parokipulogebang.org/wp-content/uploads/2021/07/PGDP-Santo-Gabriel.jpg
END:VEVENT
BEGIN:VEVENT
DTSTART;TZID=Asia/Krasnoyarsk:20240825T063000
DTEND;TZID=Asia/Krasnoyarsk:20240825T080000
DTSTAMP:20260425T061519
CREATED:20240502T141917Z
LAST-MODIFIED:20240502T141917Z
UID:27742-1724567400-1724572800@www.parokipulogebang.org
SUMMARY:Misa Hari Minggu Biasa XXI
DESCRIPTION:
URL:https://www.parokipulogebang.org/agenda/misa-hari-minggu-biasa-xxi-12/
LOCATION:Gereja St. Gabriel\, Indonesia
ATTACH;FMTTYPE=image/jpeg:https://www.parokipulogebang.org/wp-content/uploads/2021/07/PGDP-Santo-Gabriel.jpg
END:VEVENT
BEGIN:VEVENT
DTSTART;TZID=Asia/Krasnoyarsk:20240824T170000
DTEND;TZID=Asia/Krasnoyarsk:20240824T183000
DTSTAMP:20260425T061519
CREATED:20240502T141917Z
LAST-MODIFIED:20240502T141917Z
UID:27741-1724518800-1724524200@www.parokipulogebang.org
SUMMARY:Misa Hari Minggu Biasa XXI
DESCRIPTION:
URL:https://www.parokipulogebang.org/agenda/misa-hari-minggu-biasa-xxi-11/
LOCATION:Gereja St. Gabriel\, Indonesia
ATTACH;FMTTYPE=image/jpeg:https://www.parokipulogebang.org/wp-content/uploads/2021/07/PGDP-Santo-Gabriel.jpg
END:VEVENT
BEGIN:VEVENT
DTSTART;TZID=Asia/Krasnoyarsk:20240818T170000
DTEND;TZID=Asia/Krasnoyarsk:20240818T183000
DTSTAMP:20260425T061519
CREATED:20240502T141917Z
LAST-MODIFIED:20240502T141917Z
UID:27740-1724000400-1724005800@www.parokipulogebang.org
SUMMARY:Misa Hari Raya Santa Perawan Maria diangkat ke Surga
DESCRIPTION:
URL:https://www.parokipulogebang.org/agenda/misa-hari-raya-santa-perawan-maria-diangkat-ke-surga-13/
LOCATION:Gereja St. Gabriel\, Indonesia
ATTACH;FMTTYPE=image/jpeg:https://www.parokipulogebang.org/wp-content/uploads/2021/07/PGDP-Santo-Gabriel.jpg
END:VEVENT
BEGIN:VEVENT
DTSTART;TZID=Asia/Krasnoyarsk:20240818T090000
DTEND;TZID=Asia/Krasnoyarsk:20240818T103000
DTSTAMP:20260425T061519
CREATED:20240502T141917Z
LAST-MODIFIED:20240502T141917Z
UID:27739-1723971600-1723977000@www.parokipulogebang.org
SUMMARY:Misa Hari Raya Santa Perawan Maria diangkat ke Surga
DESCRIPTION:
URL:https://www.parokipulogebang.org/agenda/misa-hari-raya-santa-perawan-maria-diangkat-ke-surga-12/
LOCATION:Gereja St. Gabriel\, Indonesia
ATTACH;FMTTYPE=image/jpeg:https://www.parokipulogebang.org/wp-content/uploads/2021/07/PGDP-Santo-Gabriel.jpg
END:VEVENT
BEGIN:VEVENT
DTSTART;TZID=Asia/Krasnoyarsk:20240818T063000
DTEND;TZID=Asia/Krasnoyarsk:20240818T080000
DTSTAMP:20260425T061519
CREATED:20240502T141917Z
LAST-MODIFIED:20240502T141917Z
UID:27738-1723962600-1723968000@www.parokipulogebang.org
SUMMARY:Misa Hari Raya Santa Perawan Maria diangkat ke Surga
DESCRIPTION:
URL:https://www.parokipulogebang.org/agenda/misa-hari-raya-santa-perawan-maria-diangkat-ke-surga-11/
LOCATION:Gereja St. Gabriel\, Indonesia
ATTACH;FMTTYPE=image/jpeg:https://www.parokipulogebang.org/wp-content/uploads/2021/07/PGDP-Santo-Gabriel.jpg
END:VEVENT
BEGIN:VEVENT
DTSTART;TZID=Asia/Krasnoyarsk:20240817T170000
DTEND;TZID=Asia/Krasnoyarsk:20240817T183000
DTSTAMP:20260425T061519
CREATED:20240502T141906Z
LAST-MODIFIED:20240502T141906Z
UID:27737-1723914000-1723919400@www.parokipulogebang.org
SUMMARY:Misa Hari Raya Santa Perawan Maria diangkat ke Surga
DESCRIPTION:
URL:https://www.parokipulogebang.org/agenda/misa-hari-raya-santa-perawan-maria-diangkat-ke-surga-10/
LOCATION:Gereja St. Gabriel\, Indonesia
ATTACH;FMTTYPE=image/jpeg:https://www.parokipulogebang.org/wp-content/uploads/2021/07/PGDP-Santo-Gabriel.jpg
END:VEVENT
BEGIN:VEVENT
DTSTART;TZID=Asia/Krasnoyarsk:20240811T170000
DTEND;TZID=Asia/Krasnoyarsk:20240811T183000
DTSTAMP:20260425T061519
CREATED:20240502T141906Z
LAST-MODIFIED:20240502T141906Z
UID:27736-1723395600-1723401000@www.parokipulogebang.org
SUMMARY:Misa Hari Minggu Biasa XIX
DESCRIPTION:
URL:https://www.parokipulogebang.org/agenda/misa-hari-minggu-biasa-xix-10/
LOCATION:Gereja St. Gabriel\, Indonesia
ATTACH;FMTTYPE=image/jpeg:https://www.parokipulogebang.org/wp-content/uploads/2021/07/PGDP-Santo-Gabriel.jpg
END:VEVENT
END:VCALENDAR